BEGIN:VCALENDAR
VERSION:2.0
PRODID:-//West Falls Conservation Society - ECPv6.15.20//NONSGML v1.0//EN
CALSCALE:GREGORIAN
METHOD:PUBLISH
X-ORIGINAL-URL:https://westfallscsny.org
X-WR-CALDESC:Events for West Falls Conservation Society
REFRESH-INTERVAL;VALUE=DURATION:PT1H
X-Robots-Tag:noindex
X-PUBLISHED-TTL:PT1H
BEGIN:VTIMEZONE
TZID:America/New_York
BEGIN:DAYLIGHT
TZOFFSETFROM:-0500
TZOFFSETTO:-0400
TZNAME:EDT
DTSTART:20250309T070000
END:DAYLIGHT
BEGIN:STANDARD
TZOFFSETFROM:-0400
TZOFFSETTO:-0500
TZNAME:EST
DTSTART:20251102T060000
END:STANDARD
BEGIN:DAYLIGHT
TZOFFSETFROM:-0500
TZOFFSETTO:-0400
TZNAME:EDT
DTSTART:20260308T070000
END:DAYLIGHT
BEGIN:STANDARD
TZOFFSETFROM:-0400
TZOFFSETTO:-0500
TZNAME:EST
DTSTART:20261101T060000
END:STANDARD
BEGIN:DAYLIGHT
TZOFFSETFROM:-0500
TZOFFSETTO:-0400
TZNAME:EDT
DTSTART:20270314T070000
END:DAYLIGHT
BEGIN:STANDARD
TZOFFSETFROM:-0400
TZOFFSETTO:-0500
TZNAME:EST
DTSTART:20271107T060000
END:STANDARD
END:VTIMEZONE
BEGIN:VEVENT
DTSTART;TZID=America/New_York:20260303T180000
DTEND;TZID=America/New_York:20260303T210000
DTSTAMP:20260424T184315
CREATED:20260113T161436Z
LAST-MODIFIED:20260128T212611Z
UID:5066-1772560800-1772571600@westfallscsny.org
SUMMARY:J.O.A.D.
DESCRIPTION:Junior Olympic Archery Development
URL:https://westfallscsny.org/event/j-o-a-d-8/
LOCATION:West Falls Conservation Society\, 55 Bridge St.\, West Falls\, NY\, 14170
CATEGORIES:JOAD
END:VEVENT
BEGIN:VEVENT
DTSTART;TZID=America/New_York:20260310T180000
DTEND;TZID=America/New_York:20260310T210000
DTSTAMP:20260424T184315
CREATED:20260113T161456Z
LAST-MODIFIED:20260128T212629Z
UID:5068-1773165600-1773176400@westfallscsny.org
SUMMARY:J.O.A.D.
DESCRIPTION:Junior Olympic Archery Development
URL:https://westfallscsny.org/event/j-o-a-d-9/
LOCATION:West Falls Conservation Society\, 55 Bridge St.\, West Falls\, NY\, 14170
CATEGORIES:JOAD
END:VEVENT
BEGIN:VEVENT
DTSTART;TZID=America/New_York:20260317T180000
DTEND;TZID=America/New_York:20260317T210000
DTSTAMP:20260424T184315
CREATED:20260113T161509Z
LAST-MODIFIED:20260128T212652Z
UID:5070-1773770400-1773781200@westfallscsny.org
SUMMARY:J.O.A.D.
DESCRIPTION:Junior Olympic Archery Development
URL:https://westfallscsny.org/event/j-o-a-d-10/
LOCATION:West Falls Conservation Society\, 55 Bridge St.\, West Falls\, NY\, 14170
CATEGORIES:JOAD
END:VEVENT
BEGIN:VEVENT
DTSTART;TZID=America/New_York:20260322T080000
DTEND;TZID=America/New_York:20260322T170000
DTSTAMP:20260424T184315
CREATED:20260221T180312Z
LAST-MODIFIED:20260221T181136Z
UID:5183-1774166400-1774198800@westfallscsny.org
SUMMARY:WNYFAB Championship
DESCRIPTION:WNYFAB Championship \n8:00am to 5:00pm \nBreakfast and Lunch available.
URL:https://westfallscsny.org/event/leos-j-o-a-d-travel-league-5/
LOCATION:West Falls Conservation Society\, 55 Bridge St.\, West Falls\, NY\, 14170
CATEGORIES:Archery,JOAD,Leo's Archery
END:VEVENT
BEGIN:VEVENT
DTSTART;TZID=America/New_York:20260324T180000
DTEND;TZID=America/New_York:20260324T210000
DTSTAMP:20260424T184315
CREATED:20260113T161523Z
LAST-MODIFIED:20260128T212709Z
UID:5072-1774375200-1774386000@westfallscsny.org
SUMMARY:J.O.A.D.
DESCRIPTION:Junior Olympic Archery Development
URL:https://westfallscsny.org/event/j-o-a-d-11/
LOCATION:West Falls Conservation Society\, 55 Bridge St.\, West Falls\, NY\, 14170
CATEGORIES:JOAD
END:VEVENT
BEGIN:VEVENT
DTSTART;TZID=America/New_York:20260331T180000
DTEND;TZID=America/New_York:20260331T210000
DTSTAMP:20260424T184315
CREATED:20260113T161539Z
LAST-MODIFIED:20260128T212726Z
UID:5074-1774980000-1774990800@westfallscsny.org
SUMMARY:J.O.A.D.
DESCRIPTION:Junior Olympic Archery Development
URL:https://westfallscsny.org/event/j-o-a-d-12/
LOCATION:West Falls Conservation Society\, 55 Bridge St.\, West Falls\, NY\, 14170
CATEGORIES:JOAD
END:VEVENT
END:VCALENDAR