BEGIN:VCALENDAR
VERSION:2.0
PRODID:-//West Falls Conservation Society - ECPv6.15.20//NONSGML v1.0//EN
CALSCALE:GREGORIAN
METHOD:PUBLISH
X-ORIGINAL-URL:https://westfallscsny.org
X-WR-CALDESC:Events for West Falls Conservation Society
REFRESH-INTERVAL;VALUE=DURATION:PT1H
X-Robots-Tag:noindex
X-PUBLISHED-TTL:PT1H
BEGIN:VTIMEZONE
TZID:America/New_York
BEGIN:DAYLIGHT
TZOFFSETFROM:-0500
TZOFFSETTO:-0400
TZNAME:EDT
DTSTART:20240310T070000
END:DAYLIGHT
BEGIN:STANDARD
TZOFFSETFROM:-0400
TZOFFSETTO:-0500
TZNAME:EST
DTSTART:20241103T060000
END:STANDARD
BEGIN:DAYLIGHT
TZOFFSETFROM:-0500
TZOFFSETTO:-0400
TZNAME:EDT
DTSTART:20250309T070000
END:DAYLIGHT
BEGIN:STANDARD
TZOFFSETFROM:-0400
TZOFFSETTO:-0500
TZNAME:EST
DTSTART:20251102T060000
END:STANDARD
BEGIN:DAYLIGHT
TZOFFSETFROM:-0500
TZOFFSETTO:-0400
TZNAME:EDT
DTSTART:20260308T070000
END:DAYLIGHT
BEGIN:STANDARD
TZOFFSETFROM:-0400
TZOFFSETTO:-0500
TZNAME:EST
DTSTART:20261101T060000
END:STANDARD
END:VTIMEZONE
BEGIN:VEVENT
DTSTART;TZID=America/New_York:20251006T180000
DTEND;TZID=America/New_York:20251006T203000
DTSTAMP:20260425T175101
CREATED:20250815T165508Z
LAST-MODIFIED:20250815T165508Z
UID:4645-1759773600-1759782600@westfallscsny.org
SUMMARY:East Aurora HS Fall Clay Target League
DESCRIPTION:Competition Week #3
URL:https://westfallscsny.org/event/east-aurora-hs-fall-clay-target-league-5/
LOCATION:West Falls Conservation Society\, 55 Bridge St.\, West Falls\, NY\, 14170
CATEGORIES:Trap
END:VEVENT
BEGIN:VEVENT
DTSTART;TZID=America/New_York:20251013T180000
DTEND;TZID=America/New_York:20251013T203000
DTSTAMP:20260425T175101
CREATED:20250815T165607Z
LAST-MODIFIED:20250815T165607Z
UID:4647-1760378400-1760387400@westfallscsny.org
SUMMARY:East Aurora HS Fall Clay Target League
DESCRIPTION:Competition Week #4
URL:https://westfallscsny.org/event/east-aurora-hs-fall-clay-target-league-6/
LOCATION:West Falls Conservation Society\, 55 Bridge St.\, West Falls\, NY\, 14170
CATEGORIES:Trap
END:VEVENT
BEGIN:VEVENT
DTSTART;TZID=America/New_York:20251020T180000
DTEND;TZID=America/New_York:20251020T203000
DTSTAMP:20260425T175101
CREATED:20250815T165657Z
LAST-MODIFIED:20250815T165657Z
UID:4649-1760983200-1760992200@westfallscsny.org
SUMMARY:East Aurora HS Fall Clay Target League
DESCRIPTION:Competition Week  #5
URL:https://westfallscsny.org/event/east-aurora-hs-fall-clay-target-league-7/
LOCATION:West Falls Conservation Society\, 55 Bridge St.\, West Falls\, NY\, 14170
CATEGORIES:Trap
END:VEVENT
BEGIN:VEVENT
DTSTART;TZID=America/New_York:20251027T180000
DTEND;TZID=America/New_York:20251027T203000
DTSTAMP:20260425T175101
CREATED:20250815T165844Z
LAST-MODIFIED:20250815T165844Z
UID:4651-1761588000-1761597000@westfallscsny.org
SUMMARY:East Aurora HS Fall Clay Target League
DESCRIPTION:Fun Week NO Shooting
URL:https://westfallscsny.org/event/east-aurora-hs-fall-clay-target-league-8/
LOCATION:West Falls Conservation Society\, 55 Bridge St.\, West Falls\, NY\, 14170
CATEGORIES:Trap
END:VEVENT
END:VCALENDAR