BEGIN:VCALENDAR
VERSION:2.0
PRODID:-//West Falls Conservation Society - ECPv6.15.20//NONSGML v1.0//EN
CALSCALE:GREGORIAN
METHOD:PUBLISH
X-WR-CALNAME:West Falls Conservation Society
X-ORIGINAL-URL:https://westfallscsny.org
X-WR-CALDESC:Events for West Falls Conservation Society
REFRESH-INTERVAL;VALUE=DURATION:PT1H
X-Robots-Tag:noindex
X-PUBLISHED-TTL:PT1H
BEGIN:VTIMEZONE
TZID:America/New_York
BEGIN:DAYLIGHT
TZOFFSETFROM:-0500
TZOFFSETTO:-0400
TZNAME:EDT
DTSTART:20250309T070000
END:DAYLIGHT
BEGIN:STANDARD
TZOFFSETFROM:-0400
TZOFFSETTO:-0500
TZNAME:EST
DTSTART:20251102T060000
END:STANDARD
BEGIN:DAYLIGHT
TZOFFSETFROM:-0500
TZOFFSETTO:-0400
TZNAME:EDT
DTSTART:20260308T070000
END:DAYLIGHT
BEGIN:STANDARD
TZOFFSETFROM:-0400
TZOFFSETTO:-0500
TZNAME:EST
DTSTART:20261101T060000
END:STANDARD
BEGIN:DAYLIGHT
TZOFFSETFROM:-0500
TZOFFSETTO:-0400
TZNAME:EDT
DTSTART:20270314T070000
END:DAYLIGHT
BEGIN:STANDARD
TZOFFSETFROM:-0400
TZOFFSETTO:-0500
TZNAME:EST
DTSTART:20271107T060000
END:STANDARD
END:VTIMEZONE
BEGIN:VEVENT
DTSTART;TZID=America/New_York:20260304T180000
DTEND;TZID=America/New_York:20260304T210000
DTSTAMP:20260424T165215
CREATED:20251019T204907Z
LAST-MODIFIED:20260113T163149Z
UID:4695-1772647200-1772658000@westfallscsny.org
SUMMARY:Trap
DESCRIPTION:
URL:https://westfallscsny.org/event/trap-98/
LOCATION:West Falls Conservation Society\, 55 Bridge St.\, West Falls\, NY\, 14170
CATEGORIES:Trap
END:VEVENT
BEGIN:VEVENT
DTSTART;TZID=America/New_York:20260311T180000
DTEND;TZID=America/New_York:20260311T210000
DTSTAMP:20260424T165215
CREATED:20251019T204718Z
LAST-MODIFIED:20260113T163215Z
UID:4694-1773252000-1773262800@westfallscsny.org
SUMMARY:Trap
DESCRIPTION:
URL:https://westfallscsny.org/event/trap-97/
LOCATION:West Falls Conservation Society\, 55 Bridge St.\, West Falls\, NY\, 14170
CATEGORIES:Trap
END:VEVENT
BEGIN:VEVENT
DTSTART;TZID=America/New_York:20260318T180000
DTEND;TZID=America/New_York:20260318T210000
DTSTAMP:20260424T165215
CREATED:20250513T175847Z
LAST-MODIFIED:20260113T163239Z
UID:4501-1773856800-1773867600@westfallscsny.org
SUMMARY:Trap
DESCRIPTION:
URL:https://westfallscsny.org/event/trap-95/
LOCATION:West Falls Conservation Society\, 55 Bridge St.\, West Falls\, NY\, 14170
CATEGORIES:Trap
END:VEVENT
BEGIN:VEVENT
DTSTART;TZID=America/New_York:20260323T080000
DTEND;TZID=America/New_York:20260323T120000
DTSTAMP:20260424T165215
CREATED:20251210T021154Z
LAST-MODIFIED:20251210T021154Z
UID:4738-1774252800-1774267200@westfallscsny.org
SUMMARY:East Aurora HS Clay Target League
DESCRIPTION:Student Registration closes at 12:00pm. \n*Mandatory Safety Meeting
URL:https://westfallscsny.org/event/east-aurora-hs-clay-target-league-2/
LOCATION:West Falls Conservation Society\, 55 Bridge St.\, West Falls\, NY\, 14170
CATEGORIES:Trap
END:VEVENT
BEGIN:VEVENT
DTSTART;TZID=America/New_York:20260325T180000
DTEND;TZID=America/New_York:20260325T210000
DTSTAMP:20260424T165215
CREATED:20250513T175832Z
LAST-MODIFIED:20260113T163303Z
UID:4498-1774461600-1774472400@westfallscsny.org
SUMMARY:Trap
DESCRIPTION:
URL:https://westfallscsny.org/event/trap-94/
LOCATION:West Falls Conservation Society\, 55 Bridge St.\, West Falls\, NY\, 14170
CATEGORIES:Trap
END:VEVENT
BEGIN:VEVENT
DTSTART;TZID=America/New_York:20260330T180000
DTEND;TZID=America/New_York:20260330T200000
DTSTAMP:20260424T165215
CREATED:20251210T021404Z
LAST-MODIFIED:20251210T021404Z
UID:4740-1774893600-1774900800@westfallscsny.org
SUMMARY:East Aurora HS Clay Target League
DESCRIPTION:E.A Team Practice #1 2 scores\, 6:00pm to 8:00pm
URL:https://westfallscsny.org/event/east-aurora-hs-clay-target-league-3/
LOCATION:West Falls Conservation Society\, 55 Bridge St.\, West Falls\, NY\, 14170
CATEGORIES:Trap
END:VEVENT
END:VCALENDAR