BEGIN:VCALENDAR
VERSION:2.0
PRODID:-//West Falls Conservation Society - ECPv6.15.20//NONSGML v1.0//EN
CALSCALE:GREGORIAN
METHOD:PUBLISH
X-WR-CALNAME:West Falls Conservation Society
X-ORIGINAL-URL:https://westfallscsny.org
X-WR-CALDESC:Events for West Falls Conservation Society
REFRESH-INTERVAL;VALUE=DURATION:PT1H
X-Robots-Tag:noindex
X-PUBLISHED-TTL:PT1H
BEGIN:VTIMEZONE
TZID:America/New_York
BEGIN:DAYLIGHT
TZOFFSETFROM:-0500
TZOFFSETTO:-0400
TZNAME:EDT
DTSTART:20240310T070000
END:DAYLIGHT
BEGIN:STANDARD
TZOFFSETFROM:-0400
TZOFFSETTO:-0500
TZNAME:EST
DTSTART:20241103T060000
END:STANDARD
BEGIN:DAYLIGHT
TZOFFSETFROM:-0500
TZOFFSETTO:-0400
TZNAME:EDT
DTSTART:20250309T070000
END:DAYLIGHT
BEGIN:STANDARD
TZOFFSETFROM:-0400
TZOFFSETTO:-0500
TZNAME:EST
DTSTART:20251102T060000
END:STANDARD
BEGIN:DAYLIGHT
TZOFFSETFROM:-0500
TZOFFSETTO:-0400
TZNAME:EDT
DTSTART:20260308T070000
END:DAYLIGHT
BEGIN:STANDARD
TZOFFSETFROM:-0400
TZOFFSETTO:-0500
TZNAME:EST
DTSTART:20261101T060000
END:STANDARD
END:VTIMEZONE
BEGIN:VEVENT
DTSTART;TZID=America/New_York:20250828T160000
DTEND;TZID=America/New_York:20250828T190000
DTSTAMP:20260425T121213
CREATED:20250513T174417Z
LAST-MODIFIED:20250715T210602Z
UID:4455-1756396800-1756407600@westfallscsny.org
SUMMARY:3D Outdoor Archery Spaghetti Dinner
DESCRIPTION:3D Outdoor Archery 4:00pm to 7:00pm. \nMembers $5.00\, Non-Members $8.00 \nGun Range will be closed after 3:00pm.
URL:https://westfallscsny.org/event/3d-outdoor-archery-spaghetti-dinner-4/
LOCATION:West Falls Conservation Society\, 55 Bridge St.\, West Falls\, NY\, 14170
END:VEVENT
BEGIN:VEVENT
DTSTART;TZID=America/New_York:20250821T173000
DTEND;TZID=America/New_York:20250821T210000
DTSTAMP:20260425T121213
CREATED:20250513T173429Z
LAST-MODIFIED:20250513T173429Z
UID:4447-1755797400-1755810000@westfallscsny.org
SUMMARY:West Falls Junior Rifle  5:30pm to 9:00pm
DESCRIPTION:
URL:https://westfallscsny.org/event/west-falls-junior-rifle-530pm-to-900pm-5/
LOCATION:West Falls Conservation Society\, 55 Bridge St.\, West Falls\, NY\, 14170
END:VEVENT
BEGIN:VEVENT
DTSTART;TZID=America/New_York:20250821T160000
DTEND;TZID=America/New_York:20250821T190000
DTSTAMP:20260425T121213
CREATED:20250513T174354Z
LAST-MODIFIED:20250715T210633Z
UID:4453-1755792000-1755802800@westfallscsny.org
SUMMARY:3D Outdoor Archery Spaghetti Dinner
DESCRIPTION:3D Outdoor Archery 4:00pm to 7:00pm. \nMembers $5.00\, Non-Members $8.00 \nGun Range will be closed after 3:00pm.
URL:https://westfallscsny.org/event/3d-outdoor-archery-spaghetti-dinner-3/
LOCATION:West Falls Conservation Society\, 55 Bridge St.\, West Falls\, NY\, 14170
END:VEVENT
BEGIN:VEVENT
DTSTART;TZID=America/New_York:20250814T160000
DTEND;TZID=America/New_York:20250814T190000
DTSTAMP:20260425T121213
CREATED:20250513T174327Z
LAST-MODIFIED:20250715T210700Z
UID:4451-1755187200-1755198000@westfallscsny.org
SUMMARY:3D Outdoor Archery Spaghetti Dinner
DESCRIPTION:3D Outdoor Archery 4:00pm to 7:00pm. \nMembers $5.00\, Non-Members $8.00 \nGun Range will be closed after 3:00pm.
URL:https://westfallscsny.org/event/3d-outdoor-archery-spaghetti-dinner-2/
LOCATION:West Falls Conservation Society\, 55 Bridge St.\, West Falls\, NY\, 14170
END:VEVENT
BEGIN:VEVENT
DTSTART;TZID=America/New_York:20250811T200000
DTEND;TZID=America/New_York:20250811T220000
DTSTAMP:20260425T121213
CREATED:20250513T175213Z
LAST-MODIFIED:20250513T175213Z
UID:4477-1754942400-1754949600@westfallscsny.org
SUMMARY:WFCS Monthly Meeting
DESCRIPTION:
URL:https://westfallscsny.org/event/wfcs-monthly-meeting-8/
LOCATION:West Falls Conservation Society\, 55 Bridge St.\, West Falls\, NY\, 14170
CATEGORIES:Meeting
END:VEVENT
BEGIN:VEVENT
DTSTART;TZID=America/New_York:20250807T160000
DTEND;TZID=America/New_York:20250807T190000
DTSTAMP:20260425T121213
CREATED:20250513T174219Z
LAST-MODIFIED:20250715T210728Z
UID:4449-1754582400-1754593200@westfallscsny.org
SUMMARY:3D Outdoor Archery Spaghetti Dinner
DESCRIPTION:3D Outdoor Archery 4:00pm to 7:00pm. \nMembers $5.00\, Non-Members $8.00 \nGun Range will be closed after 3:00pm.
URL:https://westfallscsny.org/event/3d-outdoor-archery-spaghetti-dinner/
LOCATION:West Falls Conservation Society\, 55 Bridge St.\, West Falls\, NY\, 14170
END:VEVENT
BEGIN:VEVENT
DTSTART;TZID=America/New_York:20250807T080000
DTEND;TZID=America/New_York:20250807T170000
DTSTAMP:20260425T121213
CREATED:20250513T173258Z
LAST-MODIFIED:20250513T173604Z
UID:4445-1754553600-1754586000@westfallscsny.org
SUMMARY:West Falls Junior Rifle  5:30pm to 9:00pm
DESCRIPTION:
URL:https://westfallscsny.org/event/west-falls-junior-rifle-530pm-to-900pm-4/
LOCATION:West Falls Conservation Society\, 55 Bridge St.\, West Falls\, NY\, 14170
END:VEVENT
BEGIN:VEVENT
DTSTART;TZID=America/New_York:20250727T120000
DTEND;TZID=America/New_York:20250727T160000
DTSTAMP:20260425T121213
CREATED:20250422T183248Z
LAST-MODIFIED:20250715T211103Z
UID:4411-1753617600-1753632000@westfallscsny.org
SUMMARY:West Falls Community Reunion Picnic
DESCRIPTION:Come reunite with old friends and make some new ones. Bring your favorite beverage and a DD if needed and dish to pass. BBQ Chicken will be provided by WFCS. \nEvent starts at 12:00pm to 4:00pm.
URL:https://westfallscsny.org/event/west-falls-community-reunion-picnic/
LOCATION:West Falls Conservation Society\, 55 Bridge St.\, West Falls\, NY\, 14170
END:VEVENT
BEGIN:VEVENT
DTSTART;TZID=America/New_York:20250714T200000
DTEND;TZID=America/New_York:20250714T220000
DTSTAMP:20260425T121213
CREATED:20250513T175151Z
LAST-MODIFIED:20250513T175151Z
UID:4475-1752523200-1752530400@westfallscsny.org
SUMMARY:WFCS Monthly Meeting
DESCRIPTION:
URL:https://westfallscsny.org/event/wfcs-monthly-meeting-7/
LOCATION:West Falls Conservation Society\, 55 Bridge St.\, West Falls\, NY\, 14170
CATEGORIES:Meeting
END:VEVENT
BEGIN:VEVENT
DTSTART;TZID=America/New_York:20250708T080000
DTEND;TZID=America/New_York:20250709T160000
DTSTAMP:20260425T121213
CREATED:20250707T195723Z
LAST-MODIFIED:20250707T204752Z
UID:4578-1751961600-1752076800@westfallscsny.org
SUMMARY:Rifle/Pistol Range Alert!
DESCRIPTION:On Tuesday 7/8 and Wednesday 7/9 from 9:00am to 4:00pm we will be installing Posted signs on club property. If you plan to use the Range during these days\, please call Jerry Lewandowski (716) 983-4900 or Jim Doetterl (716) 560-5633. This is so we can make sure we are NOT on the hill down range when you are shooting. We will be posting signs on the North\, West and East boundaries. \nThank you for your consideration.
URL:https://westfallscsny.org/event/shooting-range-alert/
LOCATION:West Falls Conservation Society\, 55 Bridge St.\, West Falls\, NY\, 14170
END:VEVENT
BEGIN:VEVENT
DTSTART;TZID=America/New_York:20250704T150000
DTEND;TZID=America/New_York:20250704T170000
DTSTAMP:20260425T121213
CREATED:20250421T222519Z
LAST-MODIFIED:20250425T151958Z
UID:4372-1751641200-1751648400@westfallscsny.org
SUMMARY:Rifle Range Closed 3-5
DESCRIPTION:Our neighbor across the street is having a graduation party on 7/4 from 3pm to 5pm. Please be considerate when planning range time.
URL:https://westfallscsny.org/event/rifle-range-closed-3-5/
LOCATION:West Falls Conservation Society\, 55 Bridge St.\, West Falls\, NY\, 14170
END:VEVENT
BEGIN:VEVENT
DTSTART;VALUE=DATE:20250629
DTEND;VALUE=DATE:20250630
DTSTAMP:20260425T121213
CREATED:20250617T184837Z
LAST-MODIFIED:20250617T190820Z
UID:4561-1751155200-1751241599@westfallscsny.org
SUMMARY:Main Building & Shelter Rental-Jack Coad
DESCRIPTION:Main building and lower shelter will be rented all day for a Birthday Party. Gun Range will remain OPEN.
URL:https://westfallscsny.org/event/main-building-shelter-rental-jack-cole/
LOCATION:West Falls Conservation Society\, 55 Bridge St.\, West Falls\, NY\, 14170
END:VEVENT
BEGIN:VEVENT
DTSTART;TZID=America/New_York:20250626T173000
DTEND;TZID=America/New_York:20250626T210000
DTSTAMP:20260425T121213
CREATED:20250513T173049Z
LAST-MODIFIED:20250513T173049Z
UID:4443-1750959000-1750971600@westfallscsny.org
SUMMARY:West Falls Junior Rifle  5:30pm to 9:00pm
DESCRIPTION:
URL:https://westfallscsny.org/event/west-falls-junior-rifle-530pm-to-900pm-3/
LOCATION:West Falls Conservation Society\, 55 Bridge St.\, West Falls\, NY\, 14170
END:VEVENT
BEGIN:VEVENT
DTSTART;TZID=America/New_York:20250624T170000
DTEND;TZID=America/New_York:20250624T210000
DTSTAMP:20260425T121213
CREATED:20250103T202448Z
LAST-MODIFIED:20250103T202448Z
UID:4199-1750784400-1750798800@westfallscsny.org
SUMMARY:Leo's JOAD
DESCRIPTION:
URL:https://westfallscsny.org/event/leos-joad-25/
LOCATION:West Falls Conservation Society\, 55 Bridge St.\, West Falls\, NY\, 14170
CATEGORIES:Archery
END:VEVENT
BEGIN:VEVENT
DTSTART;TZID=America/New_York:20250617T170000
DTEND;TZID=America/New_York:20250617T210000
DTSTAMP:20260425T121213
CREATED:20250103T202447Z
LAST-MODIFIED:20250103T202447Z
UID:4198-1750179600-1750194000@westfallscsny.org
SUMMARY:Leo's JOAD
DESCRIPTION:
URL:https://westfallscsny.org/event/leos-joad-24/
LOCATION:West Falls Conservation Society\, 55 Bridge St.\, West Falls\, NY\, 14170
CATEGORIES:Archery
END:VEVENT
BEGIN:VEVENT
DTSTART;TZID=America/New_York:20250612T173000
DTEND;TZID=America/New_York:20250612T210000
DTSTAMP:20260425T121213
CREATED:20250513T173015Z
LAST-MODIFIED:20250513T173015Z
UID:4441-1749749400-1749762000@westfallscsny.org
SUMMARY:West Falls Junior Rifle  5:30pm to 9:00pm
DESCRIPTION:
URL:https://westfallscsny.org/event/west-falls-junior-rifle-530pm-to-900pm-2/
LOCATION:West Falls Conservation Society\, 55 Bridge St.\, West Falls\, NY\, 14170
END:VEVENT
BEGIN:VEVENT
DTSTART;TZID=America/New_York:20250611T180000
DTEND;TZID=America/New_York:20250611T210000
DTSTAMP:20260425T121213
CREATED:20250103T202722Z
LAST-MODIFIED:20250103T202722Z
UID:4248-1749664800-1749675600@westfallscsny.org
SUMMARY:Trap
DESCRIPTION:
URL:https://westfallscsny.org/event/trap-80/
LOCATION:West Falls Conservation Society\, 55 Bridge St.\, West Falls\, NY\, 14170
CATEGORIES:Trap
END:VEVENT
BEGIN:VEVENT
DTSTART;TZID=America/New_York:20250610T170000
DTEND;TZID=America/New_York:20250610T210000
DTSTAMP:20260425T121213
CREATED:20250103T202447Z
LAST-MODIFIED:20250103T202447Z
UID:4197-1749574800-1749589200@westfallscsny.org
SUMMARY:Leo's JOAD
DESCRIPTION:
URL:https://westfallscsny.org/event/leos-joad-23/
LOCATION:West Falls Conservation Society\, 55 Bridge St.\, West Falls\, NY\, 14170
CATEGORIES:Archery
END:VEVENT
BEGIN:VEVENT
DTSTART;TZID=America/New_York:20250609T200000
DTEND;TZID=America/New_York:20250609T220000
DTSTAMP:20260425T121213
CREATED:20250103T202605Z
LAST-MODIFIED:20250103T202605Z
UID:4222-1749499200-1749506400@westfallscsny.org
SUMMARY:WFCS Monthly Meeting
DESCRIPTION:
URL:https://westfallscsny.org/event/wfcs-monthly-meeting-6/
LOCATION:West Falls Conservation Society\, 55 Bridge St.\, West Falls\, NY\, 14170
CATEGORIES:Meeting
END:VEVENT
BEGIN:VEVENT
DTSTART;TZID=America/New_York:20250607T160000
DTEND;TZID=America/New_York:20250607T200000
DTSTAMP:20260425T121213
CREATED:20250422T174419Z
LAST-MODIFIED:20250527T194737Z
UID:4384-1749312000-1749326400@westfallscsny.org
SUMMARY:WFCS Wild Game Dinner  4pm - 8pm
DESCRIPTION:Event will be held June 7th 2025 at WFCS\, 55 Bridge St in West Falls starting at 4:00pm. Bring your favorite Snack\, Dessert or Dinner dish to pass as admission to the event.\n\n\nIt doesn’t have to be a Wild Game recipe!\n\n\nCome see what WFCS is about and join in the Fun! Live and Silent Auctions\, Chinese Auctions for Prizes and assorted Baskets\, 50/50 Raffle.\n\n\nBid for fabulous prizes like an overnight stay at a Premium local Hotel\, Buffalo Sabre’s and Bandits Suite Packages that includes Tickets\, Parking Pass and Food for an upcoming 25-26 season game and much more.\n\n\nAll proceeds go to a Scholarship fund sponsored by WFCS awarded to Graduating local High School students to help with future education expenses.\n\n\nDON’T MISS IT!!!\n\n\nHope to see you there!\n\n 
URL:https://westfallscsny.org/event/wfcs-wild-game-dinner-4pm-8pm-2/
LOCATION:NY
END:VEVENT
BEGIN:VEVENT
DTSTART;TZID=America/New_York:20250604T180000
DTEND;TZID=America/New_York:20250604T210000
DTSTAMP:20260425T121213
CREATED:20250103T202722Z
LAST-MODIFIED:20250103T202722Z
UID:4247-1749060000-1749070800@westfallscsny.org
SUMMARY:Trap
DESCRIPTION:
URL:https://westfallscsny.org/event/trap-79/
LOCATION:West Falls Conservation Society\, 55 Bridge St.\, West Falls\, NY\, 14170
CATEGORIES:Trap
END:VEVENT
BEGIN:VEVENT
DTSTART;TZID=America/New_York:20250603T170000
DTEND;TZID=America/New_York:20250603T210000
DTSTAMP:20260425T121213
CREATED:20250103T202447Z
LAST-MODIFIED:20250103T202447Z
UID:4196-1748970000-1748984400@westfallscsny.org
SUMMARY:Leo's JOAD
DESCRIPTION:
URL:https://westfallscsny.org/event/leos-joad-22/
LOCATION:West Falls Conservation Society\, 55 Bridge St.\, West Falls\, NY\, 14170
CATEGORIES:Archery
END:VEVENT
BEGIN:VEVENT
DTSTART;TZID=America/New_York:20250529T173000
DTEND;TZID=America/New_York:20250529T210000
DTSTAMP:20260425T121213
CREATED:20250513T172820Z
LAST-MODIFIED:20250513T172820Z
UID:4439-1748539800-1748552400@westfallscsny.org
SUMMARY:West Falls Junior Rifle  5:30pm to 9:00pm
DESCRIPTION:
URL:https://westfallscsny.org/event/west-falls-junior-rifle-530pm-to-900pm/
LOCATION:West Falls Conservation Society\, 55 Bridge St.\, West Falls\, NY\, 14170
END:VEVENT
BEGIN:VEVENT
DTSTART;TZID=America/New_York:20250528T180000
DTEND;TZID=America/New_York:20250528T210000
DTSTAMP:20260425T121213
CREATED:20250103T202721Z
LAST-MODIFIED:20250103T202721Z
UID:4246-1748455200-1748466000@westfallscsny.org
SUMMARY:Trap
DESCRIPTION:
URL:https://westfallscsny.org/event/trap-78/
LOCATION:West Falls Conservation Society\, 55 Bridge St.\, West Falls\, NY\, 14170
CATEGORIES:Trap
END:VEVENT
BEGIN:VEVENT
DTSTART;TZID=America/New_York:20250527T170000
DTEND;TZID=America/New_York:20250527T210000
DTSTAMP:20260425T121213
CREATED:20250103T202447Z
LAST-MODIFIED:20250103T202447Z
UID:4195-1748365200-1748379600@westfallscsny.org
SUMMARY:Leo's JOAD
DESCRIPTION:
URL:https://westfallscsny.org/event/leos-joad-21/
LOCATION:West Falls Conservation Society\, 55 Bridge St.\, West Falls\, NY\, 14170
CATEGORIES:Archery
END:VEVENT
BEGIN:VEVENT
DTSTART;TZID=America/New_York:20250523T180000
DTEND;TZID=America/New_York:20250525T120000
DTSTAMP:20260425T121213
CREATED:20250422T183916Z
LAST-MODIFIED:20250513T170441Z
UID:4413-1748023200-1748174400@westfallscsny.org
SUMMARY:BSA Troop 1776 Weekend Camp Out
DESCRIPTION:Scouts from Troop 1776 will camp out at the upper shelter from 6pm on 5/23 to 12pm on 5/25. Mark Moore is coordinating the event. Rifle Range will be open. \n3D Member Archery Course will be CLOSED Friday 5/23 through Sunday 5/25.
URL:https://westfallscsny.org/event/bsa-troop-1776-weekend-camp-out/
LOCATION:West Falls Conservation Society\, 55 Bridge St.\, West Falls\, NY\, 14170
END:VEVENT
BEGIN:VEVENT
DTSTART;TZID=America/New_York:20250521T180000
DTEND;TZID=America/New_York:20250521T210000
DTSTAMP:20260425T121213
CREATED:20250103T202721Z
LAST-MODIFIED:20250103T202721Z
UID:4245-1747850400-1747861200@westfallscsny.org
SUMMARY:Trap
DESCRIPTION:
URL:https://westfallscsny.org/event/trap-77/
LOCATION:West Falls Conservation Society\, 55 Bridge St.\, West Falls\, NY\, 14170
CATEGORIES:Trap
END:VEVENT
BEGIN:VEVENT
DTSTART;TZID=America/New_York:20250520T170000
DTEND;TZID=America/New_York:20250520T210000
DTSTAMP:20260425T121213
CREATED:20250103T202433Z
LAST-MODIFIED:20250103T202433Z
UID:4194-1747760400-1747774800@westfallscsny.org
SUMMARY:Leo's JOAD
DESCRIPTION:
URL:https://westfallscsny.org/event/leos-joad-20/
LOCATION:West Falls Conservation Society\, 55 Bridge St.\, West Falls\, NY\, 14170
CATEGORIES:Archery
END:VEVENT
BEGIN:VEVENT
DTSTART;TZID=America/New_York:20250519T183000
DTEND;TZID=America/New_York:20250519T210000
DTSTAMP:20260425T121213
CREATED:20250315T171344Z
LAST-MODIFIED:20250315T171344Z
UID:4347-1747679400-1747688400@westfallscsny.org
SUMMARY:HS Trap - Competition
DESCRIPTION:
URL:https://westfallscsny.org/event/hs-trap-competition-7/
LOCATION:West Falls Conservation Society\, 55 Bridge St.\, West Falls\, NY\, 14170
END:VEVENT
BEGIN:VEVENT
DTSTART;TZID=America/New_York:20250518T073000
DTEND;TZID=America/New_York:20250518T140000
DTSTAMP:20260425T121213
CREATED:20250422T180413Z
LAST-MODIFIED:20250513T170841Z
UID:4397-1747553400-1747576800@westfallscsny.org
SUMMARY:ASA 3D Archery Shoot
DESCRIPTION:Registration from 7:30am to 2:00pm\, casual start. ASA Members $25\, Walk-ons $15. \nGun Range and Member 3D Archery Course will be closed All day.
URL:https://westfallscsny.org/event/asa-3d-archery-shoot/
LOCATION:NY
END:VEVENT
END:VCALENDAR