BEGIN:VCALENDAR
VERSION:2.0
PRODID:-//West Falls Conservation Society - ECPv6.15.20//NONSGML v1.0//EN
CALSCALE:GREGORIAN
METHOD:PUBLISH
X-WR-CALNAME:West Falls Conservation Society
X-ORIGINAL-URL:https://westfallscsny.org
X-WR-CALDESC:Events for West Falls Conservation Society
REFRESH-INTERVAL;VALUE=DURATION:PT1H
X-Robots-Tag:noindex
X-PUBLISHED-TTL:PT1H
BEGIN:VTIMEZONE
TZID:America/New_York
BEGIN:DAYLIGHT
TZOFFSETFROM:-0500
TZOFFSETTO:-0400
TZNAME:EDT
DTSTART:20250309T070000
END:DAYLIGHT
BEGIN:STANDARD
TZOFFSETFROM:-0400
TZOFFSETTO:-0500
TZNAME:EST
DTSTART:20251102T060000
END:STANDARD
BEGIN:DAYLIGHT
TZOFFSETFROM:-0500
TZOFFSETTO:-0400
TZNAME:EDT
DTSTART:20260308T070000
END:DAYLIGHT
BEGIN:STANDARD
TZOFFSETFROM:-0400
TZOFFSETTO:-0500
TZNAME:EST
DTSTART:20261101T060000
END:STANDARD
BEGIN:DAYLIGHT
TZOFFSETFROM:-0500
TZOFFSETTO:-0400
TZNAME:EDT
DTSTART:20270314T070000
END:DAYLIGHT
BEGIN:STANDARD
TZOFFSETFROM:-0400
TZOFFSETTO:-0500
TZNAME:EST
DTSTART:20271107T060000
END:STANDARD
END:VTIMEZONE
BEGIN:VEVENT
DTSTART;TZID=America/New_York:20260516T160000
DTEND;TZID=America/New_York:20260516T180000
DTSTAMP:20260425T070521
CREATED:20260113T170459Z
LAST-MODIFIED:20260113T170503Z
UID:5088-1778947200-1778954400@westfallscsny.org
SUMMARY:Aurora Starfish Fund Raffle
DESCRIPTION:WNY Veterans Benefit. Sponsored by East Aurora Kiwanis\, Rotary and Lions Clubs. Proceeds generate donations to WNY Heroes and Pawsitive for Heroes. Public Welcome!
URL:https://westfallscsny.org/event/aurora-starfish-fund-raffle/
LOCATION:West Falls Conservation Society\, 55 Bridge St.\, West Falls\, NY\, 14170
CATEGORIES:Social event
END:VEVENT
BEGIN:VEVENT
DTSTART;TZID=America/New_York:20260513T180000
DTEND;TZID=America/New_York:20260513T210000
DTSTAMP:20260425T070522
CREATED:20251210T162531Z
LAST-MODIFIED:20251210T162531Z
UID:4815-1778695200-1778706000@westfallscsny.org
SUMMARY:East Aurora HS Clay Target League
DESCRIPTION:Wednesday practice at WFCS 6:00pm to 9:00pm\, Open shoot
URL:https://westfallscsny.org/event/east-aurora-hs-clay-target-league-22/
LOCATION:West Falls Conservation Society\, 55 Bridge St.\, West Falls\, NY\, 14170
CATEGORIES:Trap
END:VEVENT
BEGIN:VEVENT
DTSTART;TZID=America/New_York:20260513T180000
DTEND;TZID=America/New_York:20260513T210000
DTSTAMP:20260425T070522
CREATED:20250513T175017Z
LAST-MODIFIED:20260113T163632Z
UID:4473-1778695200-1778706000@westfallscsny.org
SUMMARY:Trap
DESCRIPTION:
URL:https://westfallscsny.org/event/trap-87/
LOCATION:West Falls Conservation Society\, 55 Bridge St.\, West Falls\, NY\, 14170
CATEGORIES:Trap
END:VEVENT
BEGIN:VEVENT
DTSTART;TZID=America/New_York:20260511T200000
DTEND;TZID=America/New_York:20260511T220000
DTSTAMP:20260425T070522
CREATED:20260113T160213Z
LAST-MODIFIED:20260113T160215Z
UID:5030-1778529600-1778536800@westfallscsny.org
SUMMARY:Monthly Meeting
DESCRIPTION:Board Meeting at 7:00pm
URL:https://westfallscsny.org/event/monthly-meeting-5/
LOCATION:West Falls Conservation Society\, 55 Bridge St.\, West Falls\, NY\, 14170
CATEGORIES:WFCS Meeting
END:VEVENT
BEGIN:VEVENT
DTSTART;TZID=America/New_York:20260511T180000
DTEND;TZID=America/New_York:20260511T203000
DTSTAMP:20260425T070522
CREATED:20251210T155104Z
LAST-MODIFIED:20251210T155104Z
UID:4796-1778522400-1778531400@westfallscsny.org
SUMMARY:East Aurora HS Clay Target League
DESCRIPTION:E.A Team Week #4 competition begins\, 2 scores\, 6:00pm to 8:30pm.
URL:https://westfallscsny.org/event/east-aurora-hs-clay-target-league-14/
LOCATION:West Falls Conservation Society\, 55 Bridge St.\, West Falls\, NY\, 14170
CATEGORIES:Trap
END:VEVENT
BEGIN:VEVENT
DTSTART;TZID=America/New_York:20260510T120000
DTEND;TZID=America/New_York:20260510T150000
DTSTAMP:20260425T070522
CREATED:20240319T184318Z
LAST-MODIFIED:20260319T003705Z
UID:3991-1778414400-1778425200@westfallscsny.org
SUMMARY:Muzzleloader Shoot
DESCRIPTION:Lead projectile Only! Metal swing targets. $5 members\, $8 Non-Members.
URL:https://westfallscsny.org/event/muzzleloader-shoot-7/
LOCATION:West Falls Conservation Society\, 55 Bridge St.\, West Falls\, NY\, 14170
CATEGORIES:Muzzle Loader
END:VEVENT
BEGIN:VEVENT
DTSTART;TZID=America/New_York:20260506T180000
DTEND;TZID=America/New_York:20260506T210000
DTSTAMP:20260425T070522
CREATED:20251210T162046Z
LAST-MODIFIED:20251210T162046Z
UID:4812-1778090400-1778101200@westfallscsny.org
SUMMARY:East Aurora HS Clay Target League
DESCRIPTION:Wednesday practice at WFCS. 6:00pm to 9:00pm\, Open shoot. \nState Tournament registration closes at 12:00pm.
URL:https://westfallscsny.org/event/east-aurora-hs-clay-target-league-21/
LOCATION:West Falls Conservation Society\, 55 Bridge St.\, West Falls\, NY\, 14170
CATEGORIES:Trap
END:VEVENT
BEGIN:VEVENT
DTSTART;TZID=America/New_York:20260506T180000
DTEND;TZID=America/New_York:20260506T210000
DTSTAMP:20260425T070522
CREATED:20250513T175543Z
LAST-MODIFIED:20260113T163604Z
UID:4487-1778090400-1778101200@westfallscsny.org
SUMMARY:Trap
DESCRIPTION:
URL:https://westfallscsny.org/event/trap-88/
LOCATION:West Falls Conservation Society\, 55 Bridge St.\, West Falls\, NY\, 14170
CATEGORIES:Trap
END:VEVENT
BEGIN:VEVENT
DTSTART;TZID=America/New_York:20260504T180000
DTEND;TZID=America/New_York:20260504T203000
DTSTAMP:20260425T070522
CREATED:20251210T155003Z
LAST-MODIFIED:20251210T155003Z
UID:4794-1777917600-1777926600@westfallscsny.org
SUMMARY:East Aurora HS Clay Target League
DESCRIPTION:E.A Team Week #3 competition begins\, 2 scores\, 6:00pm to 8:30pm.
URL:https://westfallscsny.org/event/east-aurora-hs-clay-target-league-13/
LOCATION:West Falls Conservation Society\, 55 Bridge St.\, West Falls\, NY\, 14170
CATEGORIES:Trap
END:VEVENT
BEGIN:VEVENT
DTSTART;TZID=America/New_York:20260429T180000
DTEND;TZID=America/New_York:20260429T210000
DTSTAMP:20260425T070522
CREATED:20251210T023508Z
LAST-MODIFIED:20251210T023508Z
UID:4758-1777485600-1777496400@westfallscsny.org
SUMMARY:East Aurora HS Clay Target League
DESCRIPTION:Wednesday practice at WFCS. 6:00pm to 9:00pm\, Open shoot
URL:https://westfallscsny.org/event/east-aurora-hs-clay-target-league-12/
LOCATION:West Falls Conservation Society\, 55 Bridge St.\, West Falls\, NY\, 14170
CATEGORIES:Trap
END:VEVENT
BEGIN:VEVENT
DTSTART;TZID=America/New_York:20260429T180000
DTEND;TZID=America/New_York:20260429T210000
DTSTAMP:20260425T070522
CREATED:20250513T175604Z
LAST-MODIFIED:20260113T163530Z
UID:4489-1777485600-1777496400@westfallscsny.org
SUMMARY:Trap
DESCRIPTION:
URL:https://westfallscsny.org/event/trap-89/
LOCATION:West Falls Conservation Society\, 55 Bridge St.\, West Falls\, NY\, 14170
CATEGORIES:Trap
END:VEVENT
BEGIN:VEVENT
DTSTART;TZID=America/New_York:20260427T180000
DTEND;TZID=America/New_York:20260427T203000
DTSTAMP:20260425T070522
CREATED:20251210T023334Z
LAST-MODIFIED:20251210T023334Z
UID:4756-1777312800-1777321800@westfallscsny.org
SUMMARY:East Aurora HS Clay Target League
DESCRIPTION:E.A. team week #2 competition begins. 2 scores\, 6:00pm to 8:30pm
URL:https://westfallscsny.org/event/east-aurora-hs-clay-target-league-11/
LOCATION:West Falls Conservation Society\, 55 Bridge St.\, West Falls\, NY\, 14170
CATEGORIES:Trap
END:VEVENT
BEGIN:VEVENT
DTSTART;TZID=America/New_York:20260426T080000
DTEND;TZID=America/New_York:20260426T160000
DTSTAMP:20260425T070522
CREATED:20260313T201311Z
LAST-MODIFIED:20260313T202145Z
UID:5290-1777190400-1777219200@westfallscsny.org
SUMMARY:NYS DEC Hunter Education Class
DESCRIPTION:  \n  \n2026 NYS DEC Hunter Education Classes \nWest Falls Conservation Society\n55 Bridge Street\nWest Falls\, NY 14170\nApr 26\, 2026\, 8:00AM – 4:00PM EDT\n\nRegister Online at:\nhttps://decals.events.east.licensing.app/em/programs/17
URL:https://westfallscsny.org/event/nys-dec-hunter-education-class/
LOCATION:West Falls Conservation Society\, 55 Bridge St.\, West Falls\, NY\, 14170
CATEGORIES:DEC Hunters Education
END:VEVENT
BEGIN:VEVENT
DTSTART;TZID=America/New_York:20260425T090000
DTEND;TZID=America/New_York:20260425T110000
DTSTAMP:20260425T070522
CREATED:20260228T180450Z
LAST-MODIFIED:20260228T180452Z
UID:5205-1777107600-1777114800@westfallscsny.org
SUMMARY:WFCS New Member Orientation Walk
DESCRIPTION:New Member Orientation Walk. Familiarize yourself with the Club and property. Get to know some of the current members. \nAttendance is one of the New Member requirements \nCurrent members welcome to join in!
URL:https://westfallscsny.org/event/wfcs-new-member-orientation-walk/
LOCATION:West Falls Conservation Society\, 55 Bridge St.\, West Falls\, NY\, 14170
CATEGORIES:WFCS New Member Orientation
END:VEVENT
BEGIN:VEVENT
DTSTART;TZID=America/New_York:20260423T170000
DTEND;TZID=America/New_York:20260423T230000
DTSTAMP:20260425T070522
CREATED:20260403T175753Z
LAST-MODIFIED:20260403T175757Z
UID:5316-1776963600-1776985200@westfallscsny.org
SUMMARY:Federation Meeting
DESCRIPTION:
URL:https://westfallscsny.org/event/federation-meeting/
LOCATION:West Falls Conservation Society\, 55 Bridge St.\, West Falls\, NY\, 14170
CATEGORIES:Meeting
END:VEVENT
BEGIN:VEVENT
DTSTART;TZID=America/New_York:20260422T180000
DTEND;TZID=America/New_York:20260422T210000
DTSTAMP:20260425T070522
CREATED:20250513T175624Z
LAST-MODIFIED:20260113T163459Z
UID:4491-1776880800-1776891600@westfallscsny.org
SUMMARY:Trap
DESCRIPTION:
URL:https://westfallscsny.org/event/trap-90/
LOCATION:West Falls Conservation Society\, 55 Bridge St.\, West Falls\, NY\, 14170
CATEGORIES:Trap
END:VEVENT
BEGIN:VEVENT
DTSTART;TZID=America/New_York:20260422T080000
DTEND;TZID=America/New_York:20260422T170000
DTSTAMP:20260425T070522
CREATED:20251210T023104Z
LAST-MODIFIED:20251210T023104Z
UID:4754-1776844800-1776877200@westfallscsny.org
SUMMARY:East Aurora HS Clay Target League
DESCRIPTION:Wednesday practice at WFCS 6:00pm to 9:00pm\, Open shoot
URL:https://westfallscsny.org/event/east-aurora-hs-clay-target-league-10/
LOCATION:West Falls Conservation Society\, 55 Bridge St.\, West Falls\, NY\, 14170
CATEGORIES:Trap
END:VEVENT
BEGIN:VEVENT
DTSTART;TZID=America/New_York:20260420T180000
DTEND;TZID=America/New_York:20260420T203000
DTSTAMP:20260425T070522
CREATED:20251210T022948Z
LAST-MODIFIED:20251210T022948Z
UID:4752-1776708000-1776717000@westfallscsny.org
SUMMARY:East Aurora HS Clay Target League
DESCRIPTION:E.A Team Week #1 competition begins\, 2 scores\, 6:00pm to 8:30pm.
URL:https://westfallscsny.org/event/east-aurora-hs-clay-target-league-9/
LOCATION:West Falls Conservation Society\, 55 Bridge St.\, West Falls\, NY\, 14170
CATEGORIES:Trap
END:VEVENT
BEGIN:VEVENT
DTSTART;TZID=America/New_York:20260420T180000
DTEND;TZID=America/New_York:20260420T200000
DTSTAMP:20260425T070522
CREATED:20260310T174904Z
LAST-MODIFIED:20260310T174922Z
UID:5224-1776708000-1776715200@westfallscsny.org
SUMMARY:Adult Learn to Shoot (Archery)
DESCRIPTION:Adult Learn to Shoot\n\nInterested in learning how to shoot a Bow?\nCome to the WFCS Adult Learn to Shoot program. \nEvery 3rd Monday of the month starting at 6:00pm \nContact Mike Cummings at (716) 655-5030 to secure a spot. \nThere is limited number of participants so don’t delay!!!
URL:https://westfallscsny.org/event/adult-learn-to-shoot-archery-49/
LOCATION:West Falls Conservation Society\, 55 Bridge St.\, West Falls\, NY\, 14170
CATEGORIES:Adult Learn to Shoot
END:VEVENT
BEGIN:VEVENT
DTSTART;TZID=America/New_York:20260419T120000
DTEND;TZID=America/New_York:20260419T200000
DTSTAMP:20260425T070522
CREATED:20260212T202603Z
LAST-MODIFIED:20260212T202607Z
UID:5166-1776600000-1776628800@westfallscsny.org
SUMMARY:Club Rental - Mike Cummings
DESCRIPTION:
URL:https://westfallscsny.org/event/club-rental-mike-cummings-3/
LOCATION:West Falls Conservation Society\, 55 Bridge St.\, West Falls\, NY\, 14170
CATEGORIES:Private Rental
END:VEVENT
BEGIN:VEVENT
DTSTART;TZID=America/New_York:20260415T180000
DTEND;TZID=America/New_York:20260415T210000
DTSTAMP:20260425T070522
CREATED:20251210T022739Z
LAST-MODIFIED:20251210T022739Z
UID:4750-1776276000-1776286800@westfallscsny.org
SUMMARY:East Aurora HS Clay Target League
DESCRIPTION:Wednesday Practice at WFCS 6:00pm to 9:00pm\, Open Shoot \nNYS Tournament Registration. \n*Team conferences announced.
URL:https://westfallscsny.org/event/east-aurora-hs-clay-target-league-8/
LOCATION:West Falls Conservation Society\, 55 Bridge St.\, West Falls\, NY\, 14170
CATEGORIES:Trap
END:VEVENT
BEGIN:VEVENT
DTSTART;TZID=America/New_York:20260415T180000
DTEND;TZID=America/New_York:20260415T210000
DTSTAMP:20260425T070522
CREATED:20250513T175637Z
LAST-MODIFIED:20260113T163427Z
UID:4493-1776276000-1776286800@westfallscsny.org
SUMMARY:Trap
DESCRIPTION:
URL:https://westfallscsny.org/event/trap-91/
LOCATION:West Falls Conservation Society\, 55 Bridge St.\, West Falls\, NY\, 14170
CATEGORIES:Trap
END:VEVENT
BEGIN:VEVENT
DTSTART;TZID=America/New_York:20260413T200000
DTEND;TZID=America/New_York:20260413T220000
DTSTAMP:20260425T070522
CREATED:20260113T160129Z
LAST-MODIFIED:20260113T160131Z
UID:5028-1776110400-1776117600@westfallscsny.org
SUMMARY:Monthly Meeting
DESCRIPTION:Board Meeting at 7:00pm
URL:https://westfallscsny.org/event/monthly-meeting-4/
LOCATION:West Falls Conservation Society\, 55 Bridge St.\, West Falls\, NY\, 14170
CATEGORIES:WFCS Meeting
END:VEVENT
BEGIN:VEVENT
DTSTART;TZID=America/New_York:20260413T180000
DTEND;TZID=America/New_York:20260413T203000
DTSTAMP:20260425T070522
CREATED:20251210T022413Z
LAST-MODIFIED:20251210T022413Z
UID:4748-1776103200-1776112200@westfallscsny.org
SUMMARY:East Aurora HS Clay Target League
DESCRIPTION:E.A Team Practice “Reserve Score” 2 scores (Emergency)
URL:https://westfallscsny.org/event/east-aurora-hs-clay-target-league-7/
LOCATION:West Falls Conservation Society\, 55 Bridge St.\, West Falls\, NY\, 14170
CATEGORIES:Trap
END:VEVENT
BEGIN:VEVENT
DTSTART;TZID=America/New_York:20260412T160000
DTEND;TZID=America/New_York:20260412T220000
DTSTAMP:20260425T070522
CREATED:20260228T174131Z
LAST-MODIFIED:20260228T175703Z
UID:5197-1776009600-1776031200@westfallscsny.org
SUMMARY:Winter Trap Banquet
DESCRIPTION:
URL:https://westfallscsny.org/event/winter-trap-banquet-2/
LOCATION:West Falls Conservation Society\, 55 Bridge St.\, West Falls\, NY\, 14170
CATEGORIES:Trap
END:VEVENT
BEGIN:VEVENT
DTSTART;TZID=America/New_York:20260412T100000
DTEND;TZID=America/New_York:20260412T130000
DTSTAMP:20260425T070522
CREATED:20250422T175146Z
LAST-MODIFIED:20260113T164815Z
UID:4393-1775988000-1775998800@westfallscsny.org
SUMMARY:Muzzle Loader Shoot
DESCRIPTION:Lead Projectile Only! Metal swing targets. $5 members\, $8 Non-Members.
URL:https://westfallscsny.org/event/muzzle-loader-shoot/
LOCATION:West Falls Conservation Society\, 55 Bridge St.\, West Falls\, NY\, 14170
END:VEVENT
BEGIN:VEVENT
DTSTART;TZID=America/New_York:20260411T160000
DTEND;TZID=America/New_York:20260411T220000
DTSTAMP:20260425T070522
CREATED:20260228T175531Z
LAST-MODIFIED:20260228T175533Z
UID:5203-1775923200-1775944800@westfallscsny.org
SUMMARY:Leo's Archery Banquet
DESCRIPTION:
URL:https://westfallscsny.org/event/leos-archery-banquet/
LOCATION:West Falls Conservation Society\, 55 Bridge St.\, West Falls\, NY\, 14170
CATEGORIES:Leo's Archery
END:VEVENT
BEGIN:VEVENT
DTSTART;TZID=America/New_York:20260408T180000
DTEND;TZID=America/New_York:20260408T210000
DTSTAMP:20260425T070522
CREATED:20251210T022044Z
LAST-MODIFIED:20251210T022044Z
UID:4746-1775671200-1775682000@westfallscsny.org
SUMMARY:East Aurora HS Clay Target League
DESCRIPTION:Wednesday Practice at WFCS\, 6:00pm to 9:00pm Open Shoot
URL:https://westfallscsny.org/event/east-aurora-hs-clay-target-league-6/
LOCATION:West Falls Conservation Society\, 55 Bridge St.\, West Falls\, NY\, 14170
CATEGORIES:Trap
END:VEVENT
BEGIN:VEVENT
DTSTART;TZID=America/New_York:20260408T180000
DTEND;TZID=America/New_York:20260408T210000
DTSTAMP:20260425T070522
CREATED:20250513T175717Z
LAST-MODIFIED:20260113T163405Z
UID:4496-1775671200-1775682000@westfallscsny.org
SUMMARY:Trap
DESCRIPTION:
URL:https://westfallscsny.org/event/trap-92/
LOCATION:West Falls Conservation Society\, 55 Bridge St.\, West Falls\, NY\, 14170
CATEGORIES:Trap
END:VEVENT
BEGIN:VEVENT
DTSTART;TZID=America/New_York:20260406T180000
DTEND;TZID=America/New_York:20260406T200000
DTSTAMP:20260425T070522
CREATED:20251210T021902Z
LAST-MODIFIED:20251210T021902Z
UID:4744-1775498400-1775505600@westfallscsny.org
SUMMARY:East Aurora HS Clay Target League
DESCRIPTION:E.A. Team Practice #2\, 2 scores 6:00pm to 8:00pm. \n*April 6-10 E.A. schools on spring recess
URL:https://westfallscsny.org/event/east-aurora-hs-clay-target-league-5/
LOCATION:West Falls Conservation Society\, 55 Bridge St.\, West Falls\, NY\, 14170
CATEGORIES:Trap
END:VEVENT
END:VCALENDAR