BEGIN:VCALENDAR
VERSION:2.0
PRODID:-//West Falls Conservation Society - ECPv6.15.20//NONSGML v1.0//EN
CALSCALE:GREGORIAN
METHOD:PUBLISH
X-WR-CALNAME:West Falls Conservation Society
X-ORIGINAL-URL:https://westfallscsny.org
X-WR-CALDESC:Events for West Falls Conservation Society
REFRESH-INTERVAL;VALUE=DURATION:PT1H
X-Robots-Tag:noindex
X-PUBLISHED-TTL:PT1H
BEGIN:VTIMEZONE
TZID:America/New_York
BEGIN:DAYLIGHT
TZOFFSETFROM:-0500
TZOFFSETTO:-0400
TZNAME:EDT
DTSTART:20240310T070000
END:DAYLIGHT
BEGIN:STANDARD
TZOFFSETFROM:-0400
TZOFFSETTO:-0500
TZNAME:EST
DTSTART:20241103T060000
END:STANDARD
BEGIN:DAYLIGHT
TZOFFSETFROM:-0500
TZOFFSETTO:-0400
TZNAME:EDT
DTSTART:20250309T070000
END:DAYLIGHT
BEGIN:STANDARD
TZOFFSETFROM:-0400
TZOFFSETTO:-0500
TZNAME:EST
DTSTART:20251102T060000
END:STANDARD
BEGIN:DAYLIGHT
TZOFFSETFROM:-0500
TZOFFSETTO:-0400
TZNAME:EDT
DTSTART:20260308T070000
END:DAYLIGHT
BEGIN:STANDARD
TZOFFSETFROM:-0400
TZOFFSETTO:-0500
TZNAME:EST
DTSTART:20261101T060000
END:STANDARD
BEGIN:DAYLIGHT
TZOFFSETFROM:-0500
TZOFFSETTO:-0400
TZNAME:EDT
DTSTART:20270314T070000
END:DAYLIGHT
BEGIN:STANDARD
TZOFFSETFROM:-0400
TZOFFSETTO:-0500
TZNAME:EST
DTSTART:20271107T060000
END:STANDARD
END:VTIMEZONE
BEGIN:VEVENT
DTSTART;TZID=America/New_York:20251208T200000
DTEND;TZID=America/New_York:20251208T220000
DTSTAMP:20260425T064952
CREATED:20250513T175349Z
LAST-MODIFIED:20250513T175349Z
UID:4485-1765224000-1765231200@westfallscsny.org
SUMMARY:WFCS Monthly Meeting
DESCRIPTION:
URL:https://westfallscsny.org/event/wfcs-monthly-meeting-12/
LOCATION:West Falls Conservation Society\, 55 Bridge St.\, West Falls\, NY\, 14170
CATEGORIES:Meeting
END:VEVENT
BEGIN:VEVENT
DTSTART;TZID=America/New_York:20251231T180000
DTEND;TZID=America/New_York:20251231T203000
DTSTAMP:20260425T064952
CREATED:20251210T153936Z
LAST-MODIFIED:20251210T153936Z
UID:4780-1767204000-1767213000@westfallscsny.org
SUMMARY:New Years Eve Trap Shoot
DESCRIPTION:End 2025 with a Bang! Come join the fun for the last shoot of 2025. \nFood and soft drinks available. \n12/32/25 from 6:00pm to 8:30pm
URL:https://westfallscsny.org/event/new-years-eve-trap-shoot/
LOCATION:West Falls Conservation Society\, 55 Bridge St.\, West Falls\, NY\, 14170
CATEGORIES:Trap
END:VEVENT
BEGIN:VEVENT
DTSTART;TZID=America/New_York:20260101T100000
DTEND;TZID=America/New_York:20260101T120000
DTSTAMP:20260425T064952
CREATED:20251210T030518Z
LAST-MODIFIED:20251210T030518Z
UID:4769-1767261600-1767268800@westfallscsny.org
SUMMARY:Muzzle Loader Shoot
DESCRIPTION:Come on out for some fun to start off the New Year! \nLead projectiles ONLY. Shoot at swinging metal targets placed on the hill. \n$5.00 members\, $8.00 Non-members \n10:00am to 12:00pm
URL:https://westfallscsny.org/event/muzzle-loader-shoot-4/
LOCATION:West Falls Conservation Society\, 55 Bridge St.\, West Falls\, NY\, 14170
CATEGORIES:Muzzle Loader
END:VEVENT
BEGIN:VEVENT
DTSTART;TZID=America/New_York:20260103T080000
DTEND;TZID=America/New_York:20260103T170000
DTSTAMP:20260425T064952
CREATED:20251210T154730Z
LAST-MODIFIED:20251210T154730Z
UID:4791-1767427200-1767459600@westfallscsny.org
SUMMARY:WNY Trap Travel League (Set-up)
DESCRIPTION:
URL:https://westfallscsny.org/event/wny-trap-travel-league-set-up-2/
LOCATION:West Falls Conservation Society\, 55 Bridge St.\, West Falls\, NY\, 14170
CATEGORIES:Trap
END:VEVENT
BEGIN:VEVENT
DTSTART;TZID=America/New_York:20260104T080000
DTEND;TZID=America/New_York:20260104T150000
DTSTAMP:20260425T064952
CREATED:20251210T163213Z
LAST-MODIFIED:20251229T201100Z
UID:4821-1767513600-1767538800@westfallscsny.org
SUMMARY:Winter Archery 3D Travel League Starts at Glen-Coe Conservation Society
DESCRIPTION:WNY 3D Winter League 2026Test your Archery skills at 4 different 3D courses. Collins\, Glen-Coe\, Evans and WFCS. \nClick on the link below for more information on When and Where to Shoot. \nWFCS shoot on third Sunday in Jan\, Feb and Mar.  WNY 3D Winter League 2026
URL:https://westfallscsny.org/event/winter-archery-3d-travel-league-starts/
LOCATION:Glen-Coe Conservation Society\, 9869 Foote Rd\, Glenwood\, NY\, 14069\, United States
CATEGORIES:Archery
END:VEVENT
BEGIN:VEVENT
DTSTART;TZID=America/New_York:20260104T080000
DTEND;TZID=America/New_York:20260104T170000
DTSTAMP:20260425T064952
CREATED:20251210T154459Z
LAST-MODIFIED:20251210T181813Z
UID:4785-1767513600-1767546000@westfallscsny.org
SUMMARY:WNY Trap Travel League at WFCS
DESCRIPTION:
URL:https://westfallscsny.org/event/wny-trap-travel-league/
LOCATION:West Falls Conservation Society\, 55 Bridge St.\, West Falls\, NY\, 14170
CATEGORIES:Trap
END:VEVENT
BEGIN:VEVENT
DTSTART;TZID=America/New_York:20260108T110000
DTEND;TZID=America/New_York:20260108T150000
DTSTAMP:20260425T064952
CREATED:20251210T164410Z
LAST-MODIFIED:20251229T201449Z
UID:4826-1767870000-1767884400@westfallscsny.org
SUMMARY:WFCS 3 Spot Archery League
DESCRIPTION:3-Spot League starts 11:00am. 45 arrows. Contact Mike Cummings for information to join the fun. Cost is $10.00 \n3 Spot League
URL:https://westfallscsny.org/event/wfcs-3-spot-archery-league/
LOCATION:West Falls Conservation Society\, 55 Bridge St.\, West Falls\, NY\, 14170
CATEGORIES:3 Spot League,Archery
END:VEVENT
BEGIN:VEVENT
DTSTART;TZID=America/New_York:20260109T180000
DTEND;TZID=America/New_York:20260109T210000
DTSTAMP:20260425T064952
CREATED:20251210T164607Z
LAST-MODIFIED:20251210T164931Z
UID:4828-1767981600-1767992400@westfallscsny.org
SUMMARY:WFCS 3 Spot Archery League
DESCRIPTION:3-Spot League starts 6:00pm. 45 arrows. Contact Mike Cummings for information to join the fun. Cost is $10.00
URL:https://westfallscsny.org/event/wfcs-3-spot-archery-league-2/
LOCATION:West Falls Conservation Society\, 55 Bridge St.\, West Falls\, NY\, 14170
CATEGORIES:3 Spot League,Archery
END:VEVENT
BEGIN:VEVENT
DTSTART;TZID=America/New_York:20260110T080000
DTEND;TZID=America/New_York:20260110T170000
DTSTAMP:20260425T064952
CREATED:20251210T154659Z
LAST-MODIFIED:20251210T154659Z
UID:4789-1768032000-1768064400@westfallscsny.org
SUMMARY:WNY Trap Travel League (Set-up)
DESCRIPTION:
URL:https://westfallscsny.org/event/wny-trap-travel-league-set-up/
LOCATION:West Falls Conservation Society\, 55 Bridge St.\, West Falls\, NY\, 14170
CATEGORIES:Trap
END:VEVENT
BEGIN:VEVENT
DTSTART;TZID=America/New_York:20260111T080000
DTEND;TZID=America/New_York:20260111T170000
DTSTAMP:20260425T064952
CREATED:20251210T154540Z
LAST-MODIFIED:20251210T181916Z
UID:4787-1768118400-1768150800@westfallscsny.org
SUMMARY:WNY Trap Travel League at WFCS
DESCRIPTION:
URL:https://westfallscsny.org/event/wny-trap-travel-league-2/
LOCATION:West Falls Conservation Society\, 55 Bridge St.\, West Falls\, NY\, 14170
CATEGORIES:Trap
END:VEVENT
BEGIN:VEVENT
DTSTART;TZID=America/New_York:20260113T170000
DTEND;TZID=America/New_York:20260113T210000
DTSTAMP:20260425T064952
CREATED:20260113T161118Z
LAST-MODIFIED:20260113T161118Z
UID:5052-1768323600-1768338000@westfallscsny.org
SUMMARY:J.O.A.D.
DESCRIPTION:Junior Olympic Archery Development
URL:https://westfallscsny.org/event/j-o-a-d/
LOCATION:West Falls Conservation Society\, 55 Bridge St.\, West Falls\, NY\, 14170
CATEGORIES:JOAD
END:VEVENT
BEGIN:VEVENT
DTSTART;TZID=America/New_York:20260114T180000
DTEND;TZID=America/New_York:20260114T210000
DTSTAMP:20260425T064952
CREATED:20260113T164202Z
LAST-MODIFIED:20260113T164202Z
UID:5080-1768413600-1768424400@westfallscsny.org
SUMMARY:Trap
DESCRIPTION:
URL:https://westfallscsny.org/event/trap-107/
LOCATION:West Falls Conservation Society\, 55 Bridge St.\, West Falls\, NY\, 14170
CATEGORIES:Trap
END:VEVENT
BEGIN:VEVENT
DTSTART;TZID=America/New_York:20260115T110000
DTEND;TZID=America/New_York:20260115T150000
DTSTAMP:20260425T064952
CREATED:20251210T165426Z
LAST-MODIFIED:20251210T165426Z
UID:4841-1768474800-1768489200@westfallscsny.org
SUMMARY:WFCS 3 Spot Archery League
DESCRIPTION:3-Spot League starts 11:00am. 45 arrows. Contact Mike Cummings for information to join the fun. Cost is $10.00
URL:https://westfallscsny.org/event/wfcs-3-spot-archery-league-6/
LOCATION:West Falls Conservation Society\, 55 Bridge St.\, West Falls\, NY\, 14170
CATEGORIES:3 Spot League,Archery
END:VEVENT
BEGIN:VEVENT
DTSTART;TZID=America/New_York:20260116T180000
DTEND;TZID=America/New_York:20260116T210000
DTSTAMP:20260425T064952
CREATED:20251210T164736Z
LAST-MODIFIED:20251210T165210Z
UID:4830-1768586400-1768597200@westfallscsny.org
SUMMARY:WFCS 3 Spot Archery League
DESCRIPTION:3-Spot League starts 6:00pm. 45 arrows. Contact Mike Cummings for information to join the fun. Cost is $10.00
URL:https://westfallscsny.org/event/wfcs-3-spot-archery-league-3/
LOCATION:West Falls Conservation Society\, 55 Bridge St.\, West Falls\, NY\, 14170
CATEGORIES:3 Spot League,Archery
END:VEVENT
BEGIN:VEVENT
DTSTART;TZID=America/New_York:20260118T080000
DTEND;TZID=America/New_York:20260118T150000
DTSTAMP:20260425T064952
CREATED:20251210T032535Z
LAST-MODIFIED:20260113T170908Z
UID:4771-1768723200-1768748400@westfallscsny.org
SUMMARY:Winter Archery 3D Travel League at WFCS
DESCRIPTION:Test your Archery skills at 4 different 3D courses. Collins\, Glen-Co\, Evans and WFCS. \nClick on the link below for more information. \nWFCS shoot on third Sunday in Jan\, Feb and Mar. Breakfast and Lunch offered \nGUN RANGE WILL BE CLOSED!!! \nWNY 3D Winter League 2026
URL:https://westfallscsny.org/event/winter-archery-3d-travel-league-at-wfcs/
LOCATION:West Falls Conservation Society\, 55 Bridge St.\, West Falls\, NY\, 14170
CATEGORIES:Archery
END:VEVENT
BEGIN:VEVENT
DTSTART;TZID=America/New_York:20260120T180000
DTEND;TZID=America/New_York:20260120T210000
DTSTAMP:20260425T064952
CREATED:20260113T161154Z
LAST-MODIFIED:20260128T212318Z
UID:5054-1768932000-1768942800@westfallscsny.org
SUMMARY:J.O.A.D.
DESCRIPTION:Junior Olympic Archery Development
URL:https://westfallscsny.org/event/j-o-a-d-2/
LOCATION:West Falls Conservation Society\, 55 Bridge St.\, West Falls\, NY\, 14170
CATEGORIES:JOAD
END:VEVENT
BEGIN:VEVENT
DTSTART;TZID=America/New_York:20260121T180000
DTEND;TZID=America/New_York:20260121T210000
DTSTAMP:20260425T064952
CREATED:20251019T205659Z
LAST-MODIFIED:20260113T162506Z
UID:4712-1769018400-1769029200@westfallscsny.org
SUMMARY:Trap
DESCRIPTION:
URL:https://westfallscsny.org/event/trap-106/
LOCATION:West Falls Conservation Society\, 55 Bridge St.\, West Falls\, NY\, 14170
CATEGORIES:Trap
END:VEVENT
BEGIN:VEVENT
DTSTART;TZID=America/New_York:20260122T110000
DTEND;TZID=America/New_York:20260122T150000
DTSTAMP:20260425T064952
CREATED:20251210T165444Z
LAST-MODIFIED:20251210T165444Z
UID:4843-1769079600-1769094000@westfallscsny.org
SUMMARY:WFCS 3 Spot Archery League
DESCRIPTION:3-Spot League starts 11:00am. 45 arrows. Contact Mike Cummings for information to join the fun. Cost is $10.00
URL:https://westfallscsny.org/event/wfcs-3-spot-archery-league-7/
LOCATION:West Falls Conservation Society\, 55 Bridge St.\, West Falls\, NY\, 14170
CATEGORIES:3 Spot League,Archery
END:VEVENT
BEGIN:VEVENT
DTSTART;TZID=America/New_York:20260123T180000
DTEND;TZID=America/New_York:20260123T210000
DTSTAMP:20260425T064952
CREATED:20251210T164755Z
LAST-MODIFIED:20251210T165251Z
UID:4832-1769191200-1769202000@westfallscsny.org
SUMMARY:WFCS 3 Spot Archery League
DESCRIPTION:3-Spot League starts 6:00pm. 45 arrows. Contact Mike Cummings for information to join the fun. Cost is $10.00
URL:https://westfallscsny.org/event/wfcs-3-spot-archery-league-4/
LOCATION:West Falls Conservation Society\, 55 Bridge St.\, West Falls\, NY\, 14170
CATEGORIES:3 Spot League,Archery
END:VEVENT
BEGIN:VEVENT
DTSTART;TZID=America/New_York:20260127T180000
DTEND;TZID=America/New_York:20260127T210000
DTSTAMP:20260425T064952
CREATED:20260113T161241Z
LAST-MODIFIED:20260128T212357Z
UID:5056-1769536800-1769547600@westfallscsny.org
SUMMARY:J.O.A.D.
DESCRIPTION:Junior Olympic Archery Development
URL:https://westfallscsny.org/event/j-o-a-d-3/
LOCATION:West Falls Conservation Society\, 55 Bridge St.\, West Falls\, NY\, 14170
CATEGORIES:JOAD
END:VEVENT
BEGIN:VEVENT
DTSTART;TZID=America/New_York:20260128T180000
DTEND;TZID=America/New_York:20260128T210000
DTSTAMP:20260425T064952
CREATED:20251019T205240Z
LAST-MODIFIED:20260113T162801Z
UID:4701-1769623200-1769634000@westfallscsny.org
SUMMARY:Trap
DESCRIPTION:
URL:https://westfallscsny.org/event/trap-104/
LOCATION:West Falls Conservation Society\, 55 Bridge St.\, West Falls\, NY\, 14170
CATEGORIES:Trap
END:VEVENT
BEGIN:VEVENT
DTSTART;TZID=America/New_York:20260129T110000
DTEND;TZID=America/New_York:20260129T150000
DTSTAMP:20260425T064952
CREATED:20251210T165504Z
LAST-MODIFIED:20251210T165515Z
UID:4845-1769684400-1769698800@westfallscsny.org
SUMMARY:WFCS 3 Spot Archery League
DESCRIPTION:3-Spot League starts 11:00am. 45 arrows. Contact Mike Cummings for information to join the fun. Cost is $10.00
URL:https://westfallscsny.org/event/wfcs-3-spot-archery-league-8/
LOCATION:West Falls Conservation Society\, 55 Bridge St.\, West Falls\, NY\, 14170
CATEGORIES:3 Spot League,Archery
END:VEVENT
BEGIN:VEVENT
DTSTART;TZID=America/New_York:20260130T180000
DTEND;TZID=America/New_York:20260130T210000
DTSTAMP:20260425T064952
CREATED:20251210T164821Z
LAST-MODIFIED:20251210T165329Z
UID:4834-1769796000-1769806800@westfallscsny.org
SUMMARY:WFCS 3 Spot Archery League
DESCRIPTION:3-Spot League starts 6:00pm. 45 arrows. Contact Mike Cummings for information to join the fun. Cost is $10.00
URL:https://westfallscsny.org/event/wfcs-3-spot-archery-league-5/
LOCATION:West Falls Conservation Society\, 55 Bridge St.\, West Falls\, NY\, 14170
CATEGORIES:3 Spot League,Archery
END:VEVENT
BEGIN:VEVENT
DTSTART;TZID=America/New_York:20260203T080000
DTEND;TZID=America/New_York:20260203T170000
DTSTAMP:20260425T064952
CREATED:20251210T020816Z
LAST-MODIFIED:20251210T020816Z
UID:4736-1770105600-1770138000@westfallscsny.org
SUMMARY:East Aurora HS Clay Target League
DESCRIPTION:Student registration begins.
URL:https://westfallscsny.org/event/east-aurora-hs-clay-target-league/
LOCATION:West Falls Conservation Society\, 55 Bridge St.\, West Falls\, NY\, 14170
CATEGORIES:Trap
END:VEVENT
BEGIN:VEVENT
DTSTART;TZID=America/New_York:20260203T180000
DTEND;TZID=America/New_York:20260203T210000
DTSTAMP:20260425T064952
CREATED:20260113T161306Z
LAST-MODIFIED:20260128T212425Z
UID:5058-1770141600-1770152400@westfallscsny.org
SUMMARY:J.O.A.D.
DESCRIPTION:Junior Olympic Archery Development
URL:https://westfallscsny.org/event/j-o-a-d-4/
LOCATION:West Falls Conservation Society\, 55 Bridge St.\, West Falls\, NY\, 14170
CATEGORIES:JOAD
END:VEVENT
BEGIN:VEVENT
DTSTART;TZID=America/New_York:20260204T180000
DTEND;TZID=America/New_York:20260204T210000
DTSTAMP:20260425T064952
CREATED:20251019T205222Z
LAST-MODIFIED:20260113T162842Z
UID:4700-1770228000-1770238800@westfallscsny.org
SUMMARY:Trap
DESCRIPTION:
URL:https://westfallscsny.org/event/trap-103/
LOCATION:West Falls Conservation Society\, 55 Bridge St.\, West Falls\, NY\, 14170
CATEGORIES:Trap
END:VEVENT
BEGIN:VEVENT
DTSTART;TZID=America/New_York:20260205T110000
DTEND;TZID=America/New_York:20260205T150000
DTSTAMP:20260425T064952
CREATED:20251210T165537Z
LAST-MODIFIED:20251210T165537Z
UID:4847-1770289200-1770303600@westfallscsny.org
SUMMARY:WFCS 3 Spot Archery League
DESCRIPTION:3-Spot League starts 11:00am. 45 arrows. Contact Mike Cummings for information to join the fun. Cost is $10.00
URL:https://westfallscsny.org/event/wfcs-3-spot-archery-league-9/
LOCATION:West Falls Conservation Society\, 55 Bridge St.\, West Falls\, NY\, 14170
CATEGORIES:3 Spot League,Archery
END:VEVENT
BEGIN:VEVENT
DTSTART;TZID=America/New_York:20260206T180000
DTEND;TZID=America/New_York:20260206T210000
DTSTAMP:20260425T064952
CREATED:20251210T170500Z
LAST-MODIFIED:20251210T170500Z
UID:4863-1770400800-1770411600@westfallscsny.org
SUMMARY:WFCS 3 Spot Archery League
DESCRIPTION:3-Spot League starts 6:00pm. 45 arrows. Contact Mike Cummings for information to join the fun. Cost is $10.00
URL:https://westfallscsny.org/event/wfcs-3-spot-archery-league-17/
LOCATION:West Falls Conservation Society\, 55 Bridge St.\, West Falls\, NY\, 14170
CATEGORIES:3 Spot League,Archery
END:VEVENT
BEGIN:VEVENT
DTSTART;TZID=America/New_York:20260207T100000
DTEND;TZID=America/New_York:20260207T130000
DTSTAMP:20260425T064952
CREATED:20250422T185948Z
LAST-MODIFIED:20260206T161803Z
UID:4416-1770458400-1770469200@westfallscsny.org
SUMMARY:Muzzle Loader Shoot\, CANCELLED due to Sub-Zero temps!!!
DESCRIPTION:Lead projectile Only! Metal swing targets. $5 members\, $8 Non-Members.
URL:https://westfallscsny.org/event/muzzle-loader-shoot-3/
LOCATION:West Falls Conservation Society\, 55 Bridge St.\, West Falls\, NY\, 14170
CATEGORIES:Muzzle Loader
END:VEVENT
BEGIN:VEVENT
DTSTART;TZID=America/New_York:20260208T080000
DTEND;TZID=America/New_York:20260208T170000
DTSTAMP:20260425T064952
CREATED:20260201T171755Z
LAST-MODIFIED:20260201T171758Z
UID:5139-1770537600-1770570000@westfallscsny.org
SUMMARY:Leo's/J.O.A.D. Travel League
DESCRIPTION:Leo’s/JOAD Indoor Winter Travel League. \n8:00am to 5:00pm \nBreakfast and Lunch available.
URL:https://westfallscsny.org/event/leos-j-o-a-d-travel-league/
LOCATION:NY
CATEGORIES:Leo's Archery
END:VEVENT
END:VCALENDAR