BEGIN:VCALENDAR
VERSION:2.0
PRODID:-//West Falls Conservation Society - ECPv6.15.20//NONSGML v1.0//EN
CALSCALE:GREGORIAN
METHOD:PUBLISH
X-WR-CALNAME:West Falls Conservation Society
X-ORIGINAL-URL:https://westfallscsny.org
X-WR-CALDESC:Events for West Falls Conservation Society
REFRESH-INTERVAL;VALUE=DURATION:PT1H
X-Robots-Tag:noindex
X-PUBLISHED-TTL:PT1H
BEGIN:VTIMEZONE
TZID:America/New_York
BEGIN:DAYLIGHT
TZOFFSETFROM:-0500
TZOFFSETTO:-0400
TZNAME:EDT
DTSTART:20250309T070000
END:DAYLIGHT
BEGIN:STANDARD
TZOFFSETFROM:-0400
TZOFFSETTO:-0500
TZNAME:EST
DTSTART:20251102T060000
END:STANDARD
BEGIN:DAYLIGHT
TZOFFSETFROM:-0500
TZOFFSETTO:-0400
TZNAME:EDT
DTSTART:20260308T070000
END:DAYLIGHT
BEGIN:STANDARD
TZOFFSETFROM:-0400
TZOFFSETTO:-0500
TZNAME:EST
DTSTART:20261101T060000
END:STANDARD
BEGIN:DAYLIGHT
TZOFFSETFROM:-0500
TZOFFSETTO:-0400
TZNAME:EDT
DTSTART:20270314T070000
END:DAYLIGHT
BEGIN:STANDARD
TZOFFSETFROM:-0400
TZOFFSETTO:-0500
TZNAME:EST
DTSTART:20271107T060000
END:STANDARD
END:VTIMEZONE
BEGIN:VEVENT
DTSTART;TZID=America/New_York:20260425T090000
DTEND;TZID=America/New_York:20260425T110000
DTSTAMP:20260425T103113
CREATED:20260228T180450Z
LAST-MODIFIED:20260228T180452Z
UID:5205-1777107600-1777114800@westfallscsny.org
SUMMARY:WFCS New Member Orientation Walk
DESCRIPTION:New Member Orientation Walk. Familiarize yourself with the Club and property. Get to know some of the current members. \nAttendance is one of the New Member requirements \nCurrent members welcome to join in!
URL:https://westfallscsny.org/event/wfcs-new-member-orientation-walk/
LOCATION:West Falls Conservation Society\, 55 Bridge St.\, West Falls\, NY\, 14170
CATEGORIES:WFCS New Member Orientation
END:VEVENT
BEGIN:VEVENT
DTSTART;TZID=America/New_York:20260426T080000
DTEND;TZID=America/New_York:20260426T160000
DTSTAMP:20260425T103113
CREATED:20260313T201311Z
LAST-MODIFIED:20260313T202145Z
UID:5290-1777190400-1777219200@westfallscsny.org
SUMMARY:NYS DEC Hunter Education Class
DESCRIPTION:  \n  \n2026 NYS DEC Hunter Education Classes \nWest Falls Conservation Society\n55 Bridge Street\nWest Falls\, NY 14170\nApr 26\, 2026\, 8:00AM – 4:00PM EDT\n\nRegister Online at:\nhttps://decals.events.east.licensing.app/em/programs/17
URL:https://westfallscsny.org/event/nys-dec-hunter-education-class/
LOCATION:West Falls Conservation Society\, 55 Bridge St.\, West Falls\, NY\, 14170
CATEGORIES:DEC Hunters Education
END:VEVENT
BEGIN:VEVENT
DTSTART;TZID=America/New_York:20260427T180000
DTEND;TZID=America/New_York:20260427T203000
DTSTAMP:20260425T103113
CREATED:20251210T023334Z
LAST-MODIFIED:20251210T023334Z
UID:4756-1777312800-1777321800@westfallscsny.org
SUMMARY:East Aurora HS Clay Target League
DESCRIPTION:E.A. team week #2 competition begins. 2 scores\, 6:00pm to 8:30pm
URL:https://westfallscsny.org/event/east-aurora-hs-clay-target-league-11/
LOCATION:West Falls Conservation Society\, 55 Bridge St.\, West Falls\, NY\, 14170
CATEGORIES:Trap
END:VEVENT
BEGIN:VEVENT
DTSTART;TZID=America/New_York:20260429T180000
DTEND;TZID=America/New_York:20260429T210000
DTSTAMP:20260425T103113
CREATED:20250513T175604Z
LAST-MODIFIED:20260113T163530Z
UID:4489-1777485600-1777496400@westfallscsny.org
SUMMARY:Trap
DESCRIPTION:
URL:https://westfallscsny.org/event/trap-89/
LOCATION:West Falls Conservation Society\, 55 Bridge St.\, West Falls\, NY\, 14170
CATEGORIES:Trap
END:VEVENT
BEGIN:VEVENT
DTSTART;TZID=America/New_York:20260429T180000
DTEND;TZID=America/New_York:20260429T210000
DTSTAMP:20260425T103113
CREATED:20251210T023508Z
LAST-MODIFIED:20251210T023508Z
UID:4758-1777485600-1777496400@westfallscsny.org
SUMMARY:East Aurora HS Clay Target League
DESCRIPTION:Wednesday practice at WFCS. 6:00pm to 9:00pm\, Open shoot
URL:https://westfallscsny.org/event/east-aurora-hs-clay-target-league-12/
LOCATION:West Falls Conservation Society\, 55 Bridge St.\, West Falls\, NY\, 14170
CATEGORIES:Trap
END:VEVENT
BEGIN:VEVENT
DTSTART;TZID=America/New_York:20260504T180000
DTEND;TZID=America/New_York:20260504T203000
DTSTAMP:20260425T103113
CREATED:20251210T155003Z
LAST-MODIFIED:20251210T155003Z
UID:4794-1777917600-1777926600@westfallscsny.org
SUMMARY:East Aurora HS Clay Target League
DESCRIPTION:E.A Team Week #3 competition begins\, 2 scores\, 6:00pm to 8:30pm.
URL:https://westfallscsny.org/event/east-aurora-hs-clay-target-league-13/
LOCATION:West Falls Conservation Society\, 55 Bridge St.\, West Falls\, NY\, 14170
CATEGORIES:Trap
END:VEVENT
BEGIN:VEVENT
DTSTART;TZID=America/New_York:20260506T180000
DTEND;TZID=America/New_York:20260506T210000
DTSTAMP:20260425T103113
CREATED:20250513T175543Z
LAST-MODIFIED:20260113T163604Z
UID:4487-1778090400-1778101200@westfallscsny.org
SUMMARY:Trap
DESCRIPTION:
URL:https://westfallscsny.org/event/trap-88/
LOCATION:West Falls Conservation Society\, 55 Bridge St.\, West Falls\, NY\, 14170
CATEGORIES:Trap
END:VEVENT
BEGIN:VEVENT
DTSTART;TZID=America/New_York:20260506T180000
DTEND;TZID=America/New_York:20260506T210000
DTSTAMP:20260425T103113
CREATED:20251210T162046Z
LAST-MODIFIED:20251210T162046Z
UID:4812-1778090400-1778101200@westfallscsny.org
SUMMARY:East Aurora HS Clay Target League
DESCRIPTION:Wednesday practice at WFCS. 6:00pm to 9:00pm\, Open shoot. \nState Tournament registration closes at 12:00pm.
URL:https://westfallscsny.org/event/east-aurora-hs-clay-target-league-21/
LOCATION:West Falls Conservation Society\, 55 Bridge St.\, West Falls\, NY\, 14170
CATEGORIES:Trap
END:VEVENT
BEGIN:VEVENT
DTSTART;TZID=America/New_York:20260510T120000
DTEND;TZID=America/New_York:20260510T150000
DTSTAMP:20260425T103113
CREATED:20240319T184318Z
LAST-MODIFIED:20260319T003705Z
UID:3991-1778414400-1778425200@westfallscsny.org
SUMMARY:Muzzleloader Shoot
DESCRIPTION:Lead projectile Only! Metal swing targets. $5 members\, $8 Non-Members.
URL:https://westfallscsny.org/event/muzzleloader-shoot-7/
LOCATION:West Falls Conservation Society\, 55 Bridge St.\, West Falls\, NY\, 14170
CATEGORIES:Muzzle Loader
END:VEVENT
BEGIN:VEVENT
DTSTART;TZID=America/New_York:20260511T180000
DTEND;TZID=America/New_York:20260511T203000
DTSTAMP:20260425T103113
CREATED:20251210T155104Z
LAST-MODIFIED:20251210T155104Z
UID:4796-1778522400-1778531400@westfallscsny.org
SUMMARY:East Aurora HS Clay Target League
DESCRIPTION:E.A Team Week #4 competition begins\, 2 scores\, 6:00pm to 8:30pm.
URL:https://westfallscsny.org/event/east-aurora-hs-clay-target-league-14/
LOCATION:West Falls Conservation Society\, 55 Bridge St.\, West Falls\, NY\, 14170
CATEGORIES:Trap
END:VEVENT
BEGIN:VEVENT
DTSTART;TZID=America/New_York:20260511T200000
DTEND;TZID=America/New_York:20260511T220000
DTSTAMP:20260425T103113
CREATED:20260113T160213Z
LAST-MODIFIED:20260113T160215Z
UID:5030-1778529600-1778536800@westfallscsny.org
SUMMARY:Monthly Meeting
DESCRIPTION:Board Meeting at 7:00pm
URL:https://westfallscsny.org/event/monthly-meeting-5/
LOCATION:West Falls Conservation Society\, 55 Bridge St.\, West Falls\, NY\, 14170
CATEGORIES:WFCS Meeting
END:VEVENT
BEGIN:VEVENT
DTSTART;TZID=America/New_York:20260513T180000
DTEND;TZID=America/New_York:20260513T210000
DTSTAMP:20260425T103113
CREATED:20250513T175017Z
LAST-MODIFIED:20260113T163632Z
UID:4473-1778695200-1778706000@westfallscsny.org
SUMMARY:Trap
DESCRIPTION:
URL:https://westfallscsny.org/event/trap-87/
LOCATION:West Falls Conservation Society\, 55 Bridge St.\, West Falls\, NY\, 14170
CATEGORIES:Trap
END:VEVENT
BEGIN:VEVENT
DTSTART;TZID=America/New_York:20260513T180000
DTEND;TZID=America/New_York:20260513T210000
DTSTAMP:20260425T103113
CREATED:20251210T162531Z
LAST-MODIFIED:20251210T162531Z
UID:4815-1778695200-1778706000@westfallscsny.org
SUMMARY:East Aurora HS Clay Target League
DESCRIPTION:Wednesday practice at WFCS 6:00pm to 9:00pm\, Open shoot
URL:https://westfallscsny.org/event/east-aurora-hs-clay-target-league-22/
LOCATION:West Falls Conservation Society\, 55 Bridge St.\, West Falls\, NY\, 14170
CATEGORIES:Trap
END:VEVENT
BEGIN:VEVENT
DTSTART;TZID=America/New_York:20260516T160000
DTEND;TZID=America/New_York:20260516T180000
DTSTAMP:20260425T103113
CREATED:20260113T170459Z
LAST-MODIFIED:20260113T170503Z
UID:5088-1778947200-1778954400@westfallscsny.org
SUMMARY:Aurora Starfish Fund Raffle
DESCRIPTION:WNY Veterans Benefit. Sponsored by East Aurora Kiwanis\, Rotary and Lions Clubs. Proceeds generate donations to WNY Heroes and Pawsitive for Heroes. Public Welcome!
URL:https://westfallscsny.org/event/aurora-starfish-fund-raffle/
LOCATION:West Falls Conservation Society\, 55 Bridge St.\, West Falls\, NY\, 14170
CATEGORIES:Social event
END:VEVENT
BEGIN:VEVENT
DTSTART;TZID=America/New_York:20260518T180000
DTEND;TZID=America/New_York:20260518T200000
DTSTAMP:20260425T103113
CREATED:20260310T175018Z
LAST-MODIFIED:20260310T175028Z
UID:5227-1779127200-1779134400@westfallscsny.org
SUMMARY:Adult Learn to Shoot (Archery)
DESCRIPTION:Adult Learn to Shoot\n\nInterested in learning how to shoot a Bow?\nCome to the WFCS Adult Learn to Shoot program. \nEvery 3rd Monday of the month starting at 6:00pm \nContact Mike Cummings at (716) 655-5030 to secure a spot. \nThere is limited number of participants so don’t delay!!!
URL:https://westfallscsny.org/event/adult-learn-to-shoot-archery-50/
LOCATION:West Falls Conservation Society\, 55 Bridge St.\, West Falls\, NY\, 14170
CATEGORIES:Adult Learn to Shoot
END:VEVENT
BEGIN:VEVENT
DTSTART;TZID=America/New_York:20260518T180000
DTEND;TZID=America/New_York:20260518T203000
DTSTAMP:20260425T103113
CREATED:20251210T155131Z
LAST-MODIFIED:20251210T155131Z
UID:4798-1779127200-1779136200@westfallscsny.org
SUMMARY:East Aurora HS Clay Target League
DESCRIPTION:E.A Team Week #5 competition begins\, 2 scores\, 6:00pm to 8:30pm.
URL:https://westfallscsny.org/event/east-aurora-hs-clay-target-league-15/
LOCATION:West Falls Conservation Society\, 55 Bridge St.\, West Falls\, NY\, 14170
CATEGORIES:Trap
END:VEVENT
BEGIN:VEVENT
DTSTART;TZID=America/New_York:20260520T180000
DTEND;TZID=America/New_York:20260520T210000
DTSTAMP:20260425T103113
CREATED:20250513T175001Z
LAST-MODIFIED:20260113T163658Z
UID:4471-1779300000-1779310800@westfallscsny.org
SUMMARY:Trap
DESCRIPTION:
URL:https://westfallscsny.org/event/trap-86/
LOCATION:West Falls Conservation Society\, 55 Bridge St.\, West Falls\, NY\, 14170
CATEGORIES:Trap
END:VEVENT
BEGIN:VEVENT
DTSTART;TZID=America/New_York:20260520T180000
DTEND;TZID=America/New_York:20260520T210000
DTSTAMP:20260425T103113
CREATED:20251210T162550Z
LAST-MODIFIED:20251210T162550Z
UID:4817-1779300000-1779310800@westfallscsny.org
SUMMARY:East Aurora HS Clay Target League
DESCRIPTION:Wednesday practice at WFCS 6:00pm to 9:00pm\, Open shoot
URL:https://westfallscsny.org/event/east-aurora-hs-clay-target-league-23/
LOCATION:West Falls Conservation Society\, 55 Bridge St.\, West Falls\, NY\, 14170
CATEGORIES:Trap
END:VEVENT
BEGIN:VEVENT
DTSTART;TZID=America/New_York:20260525T180000
DTEND;TZID=America/New_York:20260525T203000
DTSTAMP:20260425T103113
CREATED:20251210T155541Z
LAST-MODIFIED:20251210T155541Z
UID:4800-1779732000-1779741000@westfallscsny.org
SUMMARY:East Aurora HS Clay Target League
DESCRIPTION:“NO SHOOTING” Memorial Day Weekend \nSeason ending year results posted \nTier 1\,2 & 3 registration opens
URL:https://westfallscsny.org/event/east-aurora-hs-clay-target-league-16/
LOCATION:West Falls Conservation Society\, 55 Bridge St.\, West Falls\, NY\, 14170
CATEGORIES:Trap
END:VEVENT
BEGIN:VEVENT
DTSTART;TZID=America/New_York:20260527T180000
DTEND;TZID=America/New_York:20260527T210000
DTSTAMP:20260425T103113
CREATED:20250513T174935Z
LAST-MODIFIED:20260113T163728Z
UID:4469-1779904800-1779915600@westfallscsny.org
SUMMARY:Trap
DESCRIPTION:
URL:https://westfallscsny.org/event/trap-85/
LOCATION:West Falls Conservation Society\, 55 Bridge St.\, West Falls\, NY\, 14170
CATEGORIES:Trap
END:VEVENT
BEGIN:VEVENT
DTSTART;TZID=America/New_York:20260527T180000
DTEND;TZID=America/New_York:20260527T210000
DTSTAMP:20260425T103113
CREATED:20251210T162608Z
LAST-MODIFIED:20251210T162608Z
UID:4819-1779904800-1779915600@westfallscsny.org
SUMMARY:East Aurora HS Clay Target League
DESCRIPTION:Wednesday practice at WFCS 6:00pm to 9:00pm\, Open shoot
URL:https://westfallscsny.org/event/east-aurora-hs-clay-target-league-24/
LOCATION:West Falls Conservation Society\, 55 Bridge St.\, West Falls\, NY\, 14170
CATEGORIES:Trap
END:VEVENT
BEGIN:VEVENT
DTSTART;TZID=America/New_York:20260531T080000
DTEND;TZID=America/New_York:20260531T170000
DTSTAMP:20260425T103113
CREATED:20251210T160244Z
LAST-MODIFIED:20251210T160244Z
UID:4802-1780214400-1780246800@westfallscsny.org
SUMMARY:East Aurora HS Clay Target League
DESCRIPTION:Sunday\, possible Pre-States Shoot at Allied Sportsmen of WNY
URL:https://westfallscsny.org/event/east-aurora-hs-clay-target-league-17/
LOCATION:Allied Sportsmen of WNY\, 12846 Clinton St\, Alden\, NY\, 14004\, United States
CATEGORIES:Trap
END:VEVENT
BEGIN:VEVENT
DTSTART;TZID=America/New_York:20260601T180000
DTEND;TZID=America/New_York:20260601T203000
DTSTAMP:20260425T103113
CREATED:20251210T160648Z
LAST-MODIFIED:20251210T160648Z
UID:4805-1780336800-1780345800@westfallscsny.org
SUMMARY:East Aurora HS Clay Target League
DESCRIPTION:June 1st Banquet at WFCS from 6:00pm to 8:30pm. \nDinner at 6:00pm\, Awards at 7:00pm\, Fun shoot until 8:30pm.
URL:https://westfallscsny.org/event/east-aurora-hs-clay-target-league-18/
LOCATION:West Falls Conservation Society\, 55 Bridge St.\, West Falls\, NY\, 14170
CATEGORIES:Trap
END:VEVENT
BEGIN:VEVENT
DTSTART;TZID=America/New_York:20260603T180000
DTEND;TZID=America/New_York:20260603T210000
DTSTAMP:20260425T103113
CREATED:20250513T174920Z
LAST-MODIFIED:20260113T163820Z
UID:4467-1780509600-1780520400@westfallscsny.org
SUMMARY:Trap
DESCRIPTION:
URL:https://westfallscsny.org/event/trap-84/
LOCATION:West Falls Conservation Society\, 55 Bridge St.\, West Falls\, NY\, 14170
CATEGORIES:Trap
END:VEVENT
BEGIN:VEVENT
DTSTART;VALUE=DATE:20260605
DTEND;VALUE=DATE:20260608
DTSTAMP:20260425T103113
CREATED:20251210T161519Z
LAST-MODIFIED:20251210T161519Z
UID:4807-1780617600-1780876799@westfallscsny.org
SUMMARY:East Aurora HS Clay Target League
DESCRIPTION:June 5\,6\,7. New York State Tournament – Cicero NY\, Bridgeport Rod & Gun Club.
URL:https://westfallscsny.org/event/east-aurora-hs-clay-target-league-19/
LOCATION:Bridgeport Rod and Gun Club\, 7470 Bull St\, Cicero\, NY\, 13039\, United States
CATEGORIES:Trap
END:VEVENT
BEGIN:VEVENT
DTSTART;TZID=America/New_York:20260608T200000
DTEND;TZID=America/New_York:20260608T220000
DTSTAMP:20260425T103113
CREATED:20260113T160239Z
LAST-MODIFIED:20260113T160241Z
UID:5032-1780948800-1780956000@westfallscsny.org
SUMMARY:Monthly Meeting
DESCRIPTION:Board Meeting at 7:00pm
URL:https://westfallscsny.org/event/monthly-meeting-6/
LOCATION:West Falls Conservation Society\, 55 Bridge St.\, West Falls\, NY\, 14170
CATEGORIES:WFCS Meeting
END:VEVENT
BEGIN:VEVENT
DTSTART;TZID=America/New_York:20260610T180000
DTEND;TZID=America/New_York:20260610T210000
DTSTAMP:20260425T103113
CREATED:20250513T174903Z
LAST-MODIFIED:20260113T163925Z
UID:4465-1781114400-1781125200@westfallscsny.org
SUMMARY:Trap
DESCRIPTION:
URL:https://westfallscsny.org/event/trap-83/
LOCATION:West Falls Conservation Society\, 55 Bridge St.\, West Falls\, NY\, 14170
CATEGORIES:Trap
END:VEVENT
BEGIN:VEVENT
DTSTART;TZID=America/New_York:20260614T100000
DTEND;TZID=America/New_York:20260614T130000
DTSTAMP:20260425T103113
CREATED:20240319T184317Z
LAST-MODIFIED:20260113T165020Z
UID:3990-1781431200-1781442000@westfallscsny.org
SUMMARY:Muzzleloader Shoot
DESCRIPTION:Lead projectile Only! Metal swing targets. $5 members\, $8 Non-Members.
URL:https://westfallscsny.org/event/muzzleloader-shoot-6/
LOCATION:West Falls Conservation Society\, 55 Bridge St.\, West Falls\, NY\, 14170
CATEGORIES:Muzzle Loader
END:VEVENT
BEGIN:VEVENT
DTSTART;TZID=America/New_York:20260615T180000
DTEND;TZID=America/New_York:20260615T200000
DTSTAMP:20260425T103113
CREATED:20260310T175057Z
LAST-MODIFIED:20260310T175100Z
UID:5229-1781546400-1781553600@westfallscsny.org
SUMMARY:Adult Learn to Shoot (Archery)
DESCRIPTION:Adult Learn to Shoot\n\nInterested in learning how to shoot a Bow?\nCome to the WFCS Adult Learn to Shoot program. \nEvery 3rd Monday of the month starting at 6:00pm \nContact Mike Cummings at (716) 655-5030 to secure a spot. \nThere is limited number of participants so don’t delay!!!
URL:https://westfallscsny.org/event/adult-learn-to-shoot-archery-51/
LOCATION:West Falls Conservation Society\, 55 Bridge St.\, West Falls\, NY\, 14170
CATEGORIES:Adult Learn to Shoot
END:VEVENT
BEGIN:VEVENT
DTSTART;TZID=America/New_York:20260617T180000
DTEND;TZID=America/New_York:20260617T210000
DTSTAMP:20260425T103113
CREATED:20250103T202736Z
LAST-MODIFIED:20260113T163953Z
UID:4250-1781719200-1781730000@westfallscsny.org
SUMMARY:Trap
DESCRIPTION:
URL:https://westfallscsny.org/event/trap-82/
LOCATION:West Falls Conservation Society\, 55 Bridge St.\, West Falls\, NY\, 14170
CATEGORIES:Trap
END:VEVENT
END:VCALENDAR