BEGIN:VCALENDAR
VERSION:2.0
PRODID:-//West Falls Conservation Society - ECPv6.15.20//NONSGML v1.0//EN
CALSCALE:GREGORIAN
METHOD:PUBLISH
X-ORIGINAL-URL:https://westfallscsny.org
X-WR-CALDESC:Events for West Falls Conservation Society
REFRESH-INTERVAL;VALUE=DURATION:PT1H
X-Robots-Tag:noindex
X-PUBLISHED-TTL:PT1H
BEGIN:VTIMEZONE
TZID:America/New_York
BEGIN:DAYLIGHT
TZOFFSETFROM:-0500
TZOFFSETTO:-0400
TZNAME:EDT
DTSTART:20250309T070000
END:DAYLIGHT
BEGIN:STANDARD
TZOFFSETFROM:-0400
TZOFFSETTO:-0500
TZNAME:EST
DTSTART:20251102T060000
END:STANDARD
BEGIN:DAYLIGHT
TZOFFSETFROM:-0500
TZOFFSETTO:-0400
TZNAME:EDT
DTSTART:20260308T070000
END:DAYLIGHT
BEGIN:STANDARD
TZOFFSETFROM:-0400
TZOFFSETTO:-0500
TZNAME:EST
DTSTART:20261101T060000
END:STANDARD
BEGIN:DAYLIGHT
TZOFFSETFROM:-0500
TZOFFSETTO:-0400
TZNAME:EDT
DTSTART:20270314T070000
END:DAYLIGHT
BEGIN:STANDARD
TZOFFSETFROM:-0400
TZOFFSETTO:-0500
TZNAME:EST
DTSTART:20271107T060000
END:STANDARD
END:VTIMEZONE
BEGIN:VEVENT
DTSTART;TZID=America/New_York:20260809T100000
DTEND;TZID=America/New_York:20260809T130000
DTSTAMP:20260425T065319
CREATED:20260113T165211Z
LAST-MODIFIED:20260113T165211Z
UID:5084-1786269600-1786280400@westfallscsny.org
SUMMARY:Muzzleloader Shoot
DESCRIPTION:Lead projectile Only! Metal swing targets. $5 members\, $8 Non-Members.
URL:https://westfallscsny.org/event/muzzleloader-shoot-9/
LOCATION:West Falls Conservation Society\, 55 Bridge St.\, West Falls\, NY\, 14170
CATEGORIES:Muzzle Loader
END:VEVENT
BEGIN:VEVENT
DTSTART;TZID=America/New_York:20260810T200000
DTEND;TZID=America/New_York:20260810T220000
DTSTAMP:20260425T065319
CREATED:20260113T160331Z
LAST-MODIFIED:20260113T160333Z
UID:5036-1786392000-1786399200@westfallscsny.org
SUMMARY:Monthly Meeting
DESCRIPTION:Board Meeting at 7:00pm
URL:https://westfallscsny.org/event/monthly-meeting-8/
LOCATION:West Falls Conservation Society\, 55 Bridge St.\, West Falls\, NY\, 14170
CATEGORIES:WFCS Meeting
END:VEVENT
BEGIN:VEVENT
DTSTART;TZID=America/New_York:20260817T180000
DTEND;TZID=America/New_York:20260817T200000
DTSTAMP:20260425T065319
CREATED:20260310T175145Z
LAST-MODIFIED:20260310T175148Z
UID:5233-1786989600-1786996800@westfallscsny.org
SUMMARY:Adult Learn to Shoot (Archery)
DESCRIPTION:Adult Learn to Shoot\n\nInterested in learning how to shoot a Bow?\nCome to the WFCS Adult Learn to Shoot program. \nEvery 3rd Monday of the month starting at 6:00pm \nContact Mike Cummings at (716) 655-5030 to secure a spot. \nThere is limited number of participants so don’t delay!!!
URL:https://westfallscsny.org/event/adult-learn-to-shoot-archery-53/
LOCATION:West Falls Conservation Society\, 55 Bridge St.\, West Falls\, NY\, 14170
CATEGORIES:Adult Learn to Shoot
END:VEVENT
END:VCALENDAR